Workbook

Sheet 1. 비용 산정양식
A1: □ 통합허가 컨설팅 비용 산출양식
A3: 1. 사업장 현황
A4: 사업장명 | B4: OOOOO㈜
A5: 주 소 | B5: OOO도 OOO시 OOO구 OOO로 000-00
A6: 연 락 처 | B6: 000-000-0000
A7: 매체 구분 | B7: 시설 구분 | C7: 배출시설 | D7: 오염물질 | L7: 방지시설 | N7: 모델링 수량
A8: 대기 | B8: 기모 | C8: 3 | D8: TSP | L8: 여과 | N8: 3
B9: 다림질 | C9: 2 | D9: TSP,NOx,SOx,Formaldehyde | L9: 세정/전기 | N9: 1
B10: 보일러 | C10: - | D10: - | L10: - | N10: -
B11: 건조 | C11: - | D11: - | L11: - | N11: -
A12: 수질 | B12: 염색,가공 | C12: 1 | D12: PH,BOD,TOC,SS,n-H,ABS,T-N,T-P,색도,생태독성,시안,Cu,As,Cr+6 | L12: 공동방지시설 | N12: -
B13: 폐가스세정 | C13: 1 | D13: PH,BOD,TOC,SS,n-H,ABS,T-N,T-P,색도,생태독성,시안,Cu,As,Cr+6 | L13: 공동방지시설 | N13: -
B14: 실험실 | C14: - | D14: - | N14: -
A16: 2. 컨설팅 비용 산정내역
A17: 항목 | B17: 세부항목 | C17: 구 분 | D17: 산정방식 | E17: 투입인력 내역 | G17: 단위 투입일수(MD) | L17: 수량 | M17: 산정 투입일수(MD) | R17: 직접인건비
G18: 기술사 | H18: 특급 | I18: 고급 | J18: 중급 | K18: 초급 | M18: 기술사 | N18: 특급 | O18: 고급 | P18: 중급 | Q18: 초급 | R18: 기술사 | S18: 특급 | T18: 고급 | U18: 중급 | V18: 초급 | W18: 합계
A19: 시설배치도 | B19: 전체공정 | C19: 도면작성 | D19: 고정 | E19: 특급1 | F19: 초급1 | G19: =IF(OR(E19="",F19=""),"",VLOOKUP(CONCATENATE($E19,", ",$F19),'2. 컨설팅 단위 투입일수'!$E$10:$J$23,2,FALSE)) -> 0 | H19: =IF(OR(E19="",F19=""),"",VLOOKUP(CONCATENATE($E19,", ",$F19),'2. 컨설팅 단위 투입일수'!$E$10:$J$23,3,FALSE)) -> 1 | I19: =IF(OR(E19="",F19=""),"",VLOOKUP(CONCATENATE($E19,", ",$F19),'2. 컨설팅 단위 투입일수'!$E$10:$J$23,4,FALSE)) -> 0 | J19: =IF(OR(E19="",F19=""),"",VLOOKUP(CONCATENATE($E19,", ",$F19),'2. 컨설팅 단위 투입일수'!$E$10:$J$23,5,FALSE)) -> 0 | K19: =IF(OR(E19="",F19=""),"",VLOOKUP(CONCATENATE($E19,", ",$F19),'2. 컨설팅 단위 투입일수'!$E$10:$J$23,6,FALSE)) -> 1 | L19: 1 | M19: =IF(G19="","",G19*$L19) -> 0 | N19: =IF(H19="","",H19*$L19) -> 1 | O19: =IF(I19="","",I19*$L19) -> 0 | P19: =IF(J19="","",J19*$L19) -> 0 | Q19: =IF(K19="","",K19*$L19) -> 1 | R19: =IF(M19="","",M19*'2. 컨설팅 단위 투입일수'!$A$5) -> 0 | S19: =IF(N19="","",N19*'2. 컨설팅 단위 투입일수'!$B$5) -> 290502 | T19: =IF(O19="","",O19*'2. 컨설팅 단위 투입일수'!$C$5) -> 0 | U19: =IF(P19="","",P19*'2. 컨설팅 단위 투입일수'!$D$5) -> 0 | V19: =IF(Q19="","",Q19*'2. 컨설팅 단위 투입일수'!$E$5) -> 199370 | W19: =IF(R19="","",SUM(R19:V19)) -> 489872
B20: 단위공정 | C20: 도면작성 | D20: 도면수 비례 | E20: 특급1 | F20: 초급1 | G20: =IF(OR(E20="",F20=""),"",VLOOKUP(CONCATENATE($E20,", ",$F20),'2. 컨설팅 단위 투입일수'!$E$24:$J$37,2,FALSE)) -> 0 | H20: =IF(OR(E20="",F20=""),"",VLOOKUP(CONCATENATE($E20,", ",$F20),'2. 컨설팅 단위 투입일수'!$E$24:$J$37,3,FALSE)) -> 1 | I20: =IF(OR(E20="",F20=""),"",VLOOKUP(CONCATENATE($E20,", ",$F20),'2. 컨설팅 단위 투입일수'!$E$24:$J$37,4,FALSE)) -> 0 | J20: =IF(OR(E20="",F20=""),"",VLOOKUP(CONCATENATE($E20,", ",$F20),'2. 컨설팅 단위 투입일수'!$E$24:$J$37,5,FALSE)) -> 0 | K20: =IF(OR(E20="",F20=""),"",VLOOKUP(CONCATENATE($E20,", ",$F20),'2. 컨설팅 단위 투입일수'!$E$24:$J$37,6,FALSE)) -> 1 | L20: 1 | M20: =IF(G20="","",G20*$L20) -> 0 | N20: =IF(H20="","",H20*$L20) -> 1 | O20: =IF(I20="","",I20*$L20) -> 0 | P20: =IF(J20="","",J20*$L20) -> 0 | Q20: =IF(K20="","",K20*$L20) -> 1 | R20: =IF(M20="","",M20*'2. 컨설팅 단위 투입일수'!$A$5) -> 0 | S20: =IF(N20="","",N20*'2. 컨설팅 단위 투입일수'!$B$5) -> 290502 | T20: =IF(O20="","",O20*'2. 컨설팅 단위 투입일수'!$C$5) -> 0 | U20: =IF(P20="","",P20*'2. 컨설팅 단위 투입일수'!$D$5) -> 0 | V20: =IF(Q20="","",Q20*'2. 컨설팅 단위 투입일수'!$E$5) -> 199370 | W20: =IF(R20="","",SUM(R20:V20)) -> 489872
A21: 공정도면 | B21: P&ID | C21: 도면작성 | D21: 도면수 비례 | E21: 특급1 | F21: 초급1 | G21: =IF(OR(E21="",F21=""),"",VLOOKUP(CONCATENATE($E21,", ",$F21),'2. 컨설팅 단위 투입일수'!$E$38:$J$51,2,FALSE)) -> 0 | H21: =IF(OR(E21="",F21=""),"",VLOOKUP(CONCATENATE($E21,", ",$F21),'2. 컨설팅 단위 투입일수'!$E$38:$J$51,3,FALSE)) -> 1 | I21: =IF(OR(E21="",F21=""),"",VLOOKUP(CONCATENATE($E21,", ",$F21),'2. 컨설팅 단위 투입일수'!$E$38:$J$51,4,FALSE)) -> 0 | J21: =IF(OR(E21="",F21=""),"",VLOOKUP(CONCATENATE($E21,", ",$F21),'2. 컨설팅 단위 투입일수'!$E$38:$J$51,5,FALSE)) -> 0 | K21: =IF(OR(E21="",F21=""),"",VLOOKUP(CONCATENATE($E21,", ",$F21),'2. 컨설팅 단위 투입일수'!$E$38:$J$51,6,FALSE)) -> 1.1 | L21: 5 | M21: =IF(G21="","",G21*$L21) -> 0 | N21: =IF(H21="","",H21*$L21) -> 5 | O21: =IF(I21="","",I21*$L21) -> 0 | P21: =IF(J21="","",J21*$L21) -> 0 | Q21: =IF(K21="","",K21*$L21) -> 5.5 | R21: =IF(M21="","",M21*'2. 컨설팅 단위 투입일수'!$A$5) -> 0 | S21: =IF(N21="","",N21*'2. 컨설팅 단위 투입일수'!$B$5) -> 1452510 | T21: =IF(O21="","",O21*'2. 컨설팅 단위 투입일수'!$C$5) -> 0 | U21: =IF(P21="","",P21*'2. 컨설팅 단위 투입일수'!$D$5) -> 0 | V21: =IF(Q21="","",Q21*'2. 컨설팅 단위 투입일수'!$E$5) -> 1096535 | W21: =IF(R21="","",SUM(R21:V21)) -> 2549045
B22: PFD | C22: 도면작성 | D22: 도면수 비례 | E22: 특급1 | F22: 초급1 | G22: =IF(OR(E22="",F22=""),"",VLOOKUP(CONCATENATE(E22,", ",F22),'2. 컨설팅 단위 투입일수'!$E$52:$J$65,2,FALSE)) -> 0 | H22: =IF(OR(E22="",F22=""),"",VLOOKUP(CONCATENATE($E22,", ",$F22),'2. 컨설팅 단위 투입일수'!$E$52:$J$65,3,FALSE)) -> 0.75 | I22: =IF(OR(E22="",F22=""),"",VLOOKUP(CONCATENATE($E22,", ",$F22),'2. 컨설팅 단위 투입일수'!$E$52:$J$65,4,FALSE)) -> 0 | J22: =IF(OR(E22="",F22=""),"",VLOOKUP(CONCATENATE($E22,", ",$F22),'2. 컨설팅 단위 투입일수'!$E$52:$J$65,5,FALSE)) -> 0 | K22: =IF(OR(E22="",F22=""),"",VLOOKUP(CONCATENATE($E22,", ",$F22),'2. 컨설팅 단위 투입일수'!$E$52:$J$65,6,FALSE)) -> 0.5 | L22: 2 | M22: =IF(G22="","",G22*$L22) -> 0 | N22: =IF(H22="","",H22*$L22) -> 1.5 | O22: =IF(I22="","",I22*$L22) -> 0 | P22: =IF(J22="","",J22*$L22) -> 0 | Q22: =IF(K22="","",K22*$L22) -> 1 | R22: =IF(M22="","",M22*'2. 컨설팅 단위 투입일수'!$A$5) -> 0 | S22: =IF(N22="","",N22*'2. 컨설팅 단위 투입일수'!$B$5) -> 435753 | T22: =IF(O22="","",O22*'2. 컨설팅 단위 투입일수'!$C$5) -> 0 | U22: =IF(P22="","",P22*'2. 컨설팅 단위 투입일수'!$D$5) -> 0 | V22: =IF(Q22="","",Q22*'2. 컨설팅 단위 투입일수'!$E$5) -> 199370 | W22: =IF(R22="","",SUM(R22:V22)) -> 635123
A23: 질량수지 | B23: 전체공정 | C23: 목록작성 | D23: 고정 | E23: 특급1 | F23: 중급1 | G23: =IF(OR(E23="",F23=""),"",VLOOKUP(CONCATENATE($E23,", ",$F23),'2. 컨설팅 단위 투입일수'!$E$66:$J$79,2,FALSE)) -> 0 | H23: =IF(OR(E23="",F23=""),"",VLOOKUP(CONCATENATE($E23,", ",$F23),'2. 컨설팅 단위 투입일수'!$E$66:$J$79,3,FALSE)) -> 1 | I23: =IF(OR(E23="",F23=""),"",VLOOKUP(CONCATENATE($E23,", ",$F23),'2. 컨설팅 단위 투입일수'!$E$66:$J$79,4,FALSE)) -> 0 | J23: =IF(OR(E23="",F23=""),"",VLOOKUP(CONCATENATE($E23,", ",$F23),'2. 컨설팅 단위 투입일수'!$E$66:$J$79,5,FALSE)) -> 0.95 | K23: =IF(OR(E23="",F23=""),"",VLOOKUP(CONCATENATE($E23,", ",$F23),'2. 컨설팅 단위 투입일수'!$E$66:$J$79,6,FALSE)) -> 0 | L23: 1 | M23: =IF(G23="","",G23*$L23) -> 0 | N23: =IF(H23="","",H23*$L23) -> 1 | O23: =IF(I23="","",I23*$L23) -> 0 | P23: =IF(J23="","",J23*$L23) -> 0.95 | Q23: =IF(K23="","",K23*$L23) -> 0 | R23: =IF(M23="","",M23*'2. 컨설팅 단위 투입일수'!$A$5) -> 0 | S23: =IF(N23="","",N23*'2. 컨설팅 단위 투입일수'!$B$5) -> 290502 | T23: =IF(O23="","",O23*'2. 컨설팅 단위 투입일수'!$C$5) -> 0 | U23: =IF(P23="","",P23*'2. 컨설팅 단위 투입일수'!$D$5) -> 210724.25 | V23: =IF(Q23="","",Q23*'2. 컨설팅 단위 투입일수'!$E$5) -> 0 | W23: =IF(R23="","",SUM(R23:V23)) -> 501226.25
A24: 모델링 | B24: 대기자료수집 | C24: 배출구 조사 | D24: 배출구수 비례 | E24: 특급1 | F24: 초급1 | G24: =IF(OR(E24="",F24=""),"",VLOOKUP(CONCATENATE($E24,", ",$F24),'2. 컨설팅 단위 투입일수'!$E$80:$J$93,2,FALSE)) -> 0 | H24: =IF(OR(E24="",F24=""),"",VLOOKUP(CONCATENATE($E24,", ",$F24),'2. 컨설팅 단위 투입일수'!$E$80:$J$93,3,FALSE)) -> 1.2 | I24: =IF(OR(E24="",F24=""),"",VLOOKUP(CONCATENATE($E24,", ",$F24),'2. 컨설팅 단위 투입일수'!$E$80:$J$93,4,FALSE)) -> 0 | J24: =IF(OR(E24="",F24=""),"",VLOOKUP(CONCATENATE($E24,", ",$F24),'2. 컨설팅 단위 투입일수'!$E$80:$J$93,5,FALSE)) -> 0 | K24: =IF(OR(E24="",F24=""),"",VLOOKUP(CONCATENATE($E24,", ",$F24),'2. 컨설팅 단위 투입일수'!$E$80:$J$93,6,FALSE)) -> 1.4 | L24: 5 | M24: =IF(G24="","",G24*$L24) -> 0 | N24: =IF(H24="","",H24*$L24) -> 6 | O24: =IF(I24="","",I24*$L24) -> 0 | P24: =IF(J24="","",J24*$L24) -> 0 | Q24: =IF(K24="","",K24*$L24) -> 7 | R24: =IF(M24="","",M24*'2. 컨설팅 단위 투입일수'!$A$5) -> 0 | S24: =IF(N24="","",N24*'2. 컨설팅 단위 투입일수'!$B$5) -> 1743012 | T24: =IF(O24="","",O24*'2. 컨설팅 단위 투입일수'!$C$5) -> 0 | U24: =IF(P24="","",P24*'2. 컨설팅 단위 투입일수'!$D$5) -> 0 | V24: =IF(Q24="","",Q24*'2. 컨설팅 단위 투입일수'!$E$5) -> 1395590 | W24: =IF(R24="","",SUM(R24:V24)) -> 3138602
B25: 대기모델링 | C25: 모델링 작업 | D25: 고정 | E25: 특급1 | F25: 초급1 | G25: =IF(OR(E25="",F25=""),"",VLOOKUP(CONCATENATE($E25,", ",$F25),'2. 컨설팅 단위 투입일수'!$E$94:$J$107,2,FALSE)) -> 0 | H25: =IF(OR(E25="",F25=""),"",VLOOKUP(CONCATENATE($E25,", ",$F25),'2. 컨설팅 단위 투입일수'!$E$94:$J$107,3,FALSE)) -> 1 | I25: =IF(OR(E25="",F25=""),"",VLOOKUP(CONCATENATE($E25,", ",$F25),'2. 컨설팅 단위 투입일수'!$E$94:$J$107,4,FALSE)) -> 0 | J25: =IF(OR(E25="",F25=""),"",VLOOKUP(CONCATENATE($E25,", ",$F25),'2. 컨설팅 단위 투입일수'!$E$94:$J$107,5,FALSE)) -> 0 | K25: =IF(OR(E25="",F25=""),"",VLOOKUP(CONCATENATE($E25,", ",$F25),'2. 컨설팅 단위 투입일수'!$E$94:$J$107,6,FALSE)) -> 1 | L25: 1 | M25: =IF(G25="","",G25*$L25) -> 0 | N25: =IF(H25="","",H25*$L25) -> 1 | O25: =IF(I25="","",I25*$L25) -> 0 | P25: =IF(J25="","",J25*$L25) -> 0 | Q25: =IF(K25="","",K25*$L25) -> 1 | R25: =IF(M25="","",M25*'2. 컨설팅 단위 투입일수'!$A$5) -> 0 | S25: =IF(N25="","",N25*'2. 컨설팅 단위 투입일수'!$B$5) -> 290502 | T25: =IF(O25="","",O25*'2. 컨설팅 단위 투입일수'!$C$5) -> 0 | U25: =IF(P25="","",P25*'2. 컨설팅 단위 투입일수'!$D$5) -> 0 | V25: =IF(Q25="","",Q25*'2. 컨설팅 단위 투입일수'!$E$5) -> 199370 | W25: =IF(R25="","",SUM(R25:V25)) -> 489872
B26: 폐수자료수집 | C26: 방류구 조사 | D26: 방류구수 비례 | E26: 특급1 | F26: 초급1 | G26: =IF(OR(E26="",F26=""),"",VLOOKUP(CONCATENATE($E26,", ",$F26),'2. 컨설팅 단위 투입일수'!$E$108:$J$121,2,FALSE)) -> 0 | H26: =IF(OR(E26="",F26=""),"",VLOOKUP(CONCATENATE($E26,", ",$F26),'2. 컨설팅 단위 투입일수'!$E$108:$J$121,3,FALSE)) -> 1 | I26: =IF(OR(E26="",F26=""),"",VLOOKUP(CONCATENATE($E26,", ",$F26),'2. 컨설팅 단위 투입일수'!$E$108:$J$121,4,FALSE)) -> 0 | J26: =IF(OR(E26="",F26=""),"",VLOOKUP(CONCATENATE($E26,", ",$F26),'2. 컨설팅 단위 투입일수'!$E$108:$J$121,5,FALSE)) -> 0 | K26: =IF(OR(E26="",F26=""),"",VLOOKUP(CONCATENATE($E26,", ",$F26),'2. 컨설팅 단위 투입일수'!$E$108:$J$121,6,FALSE)) -> 2 | L26: 1 | M26: =IF(G26="","",G26*$L26) -> 0 | N26: =IF(H26="","",H26*$L26) -> 1 | O26: =IF(I26="","",I26*$L26) -> 0 | P26: =IF(J26="","",J26*$L26) -> 0 | Q26: =IF(K26="","",K26*$L26) -> 2 | R26: =IF(M26="","",M26*'2. 컨설팅 단위 투입일수'!$A$5) -> 0 | S26: =IF(N26="","",N26*'2. 컨설팅 단위 투입일수'!$B$5) -> 290502 | T26: =IF(O26="","",O26*'2. 컨설팅 단위 투입일수'!$C$5) -> 0 | U26: =IF(P26="","",P26*'2. 컨설팅 단위 투입일수'!$D$5) -> 0 | V26: =IF(Q26="","",Q26*'2. 컨설팅 단위 투입일수'!$E$5) -> 398740 | W26: =IF(R26="","",SUM(R26:V26)) -> 689242
B27: 폐수모델링 | C27: 모델링 작업 | D27: 고정 | E27: 특급1 | F27: 초급1 | G27: =IF(OR(E27="",F27=""),"",VLOOKUP(CONCATENATE($E27,", ",$F27),'2. 컨설팅 단위 투입일수'!$E$122:$J$135,2,FALSE)) -> 0 | H27: =IF(OR(E27="",F27=""),"",VLOOKUP(CONCATENATE($E27,", ",$F27),'2. 컨설팅 단위 투입일수'!$E$122:$J$135,3,FALSE)) -> 1 | I27: =IF(OR(E27="",F27=""),"",VLOOKUP(CONCATENATE($E27,", ",$F27),'2. 컨설팅 단위 투입일수'!$E$122:$J$135,4,FALSE)) -> 0 | J27: =IF(OR(E27="",F27=""),"",VLOOKUP(CONCATENATE($E27,", ",$F27),'2. 컨설팅 단위 투입일수'!$E$122:$J$135,5,FALSE)) -> 0 | K27: =IF(OR(E27="",F27=""),"",VLOOKUP(CONCATENATE($E27,", ",$F27),'2. 컨설팅 단위 투입일수'!$E$122:$J$135,6,FALSE)) -> 1 | L27: 1 | M27: =IF(G27="","",G27*$L27) -> 0 | N27: =IF(H27="","",H27*$L27) -> 1 | O27: =IF(I27="","",I27*$L27) -> 0 | P27: =IF(J27="","",J27*$L27) -> 0 | Q27: =IF(K27="","",K27*$L27) -> 1 | R27: =IF(M27="","",M27*'2. 컨설팅 단위 투입일수'!$A$5) -> 0 | S27: =IF(N27="","",N27*'2. 컨설팅 단위 투입일수'!$B$5) -> 290502 | T27: =IF(O27="","",O27*'2. 컨설팅 단위 투입일수'!$C$5) -> 0 | U27: =IF(P27="","",P27*'2. 컨설팅 단위 투입일수'!$D$5) -> 0 | V27: =IF(Q27="","",Q27*'2. 컨설팅 단위 투입일수'!$E$5) -> 199370 | W27: =IF(R27="","",SUM(R27:V27)) -> 489872
A28: 사업비 비용산출 | B28: 직접인건비 | E28: 항목별 직접인건비 합계 | V28: =SUM(W19:W27) -> 9472726.2
B29: 제경비 | E29: 직접인건비 × 15% | V29: =V28*0.15 -> 1420908.9
B30: 기술료 | E30: (직접인건비+제경비) × 5% | V30: =SUM(V28:W29)*0.05 -> 544681.76
B31: 사업비 총계 | V31: =SUM(V28:W30) -> 11438317
A32: 정부지원금 | B32: 최대 2,000만원 | V32: =IF(V31>20000000,20000000,V31) -> 11438317
A33: 지원사업장 부담금 | B33: 지원한도 초과금 | E33: 정부지원금 상한 초과액 | V33: =IF(V31>20000000,V31-20000000,"-") -> -
B34: 지원한도 초과금에 대한 부가가치세 | E34: 지원한도 초과금의 10% | V34: =IF(V33="-","-",ROUNDDOWN(V33*0.1,-1)) -> -
B35: 정부지원금에 대한 부가가치세 | E35: 정부지원금의 10% | V35: =ROUNDDOWN(V32*0.1,-1) -> 1143830

Sheet 2. 컨설팅 단위 투입일수
A1: □ 통합허가 컨설팅 단위 투입일수
A3: 1. 환경부문별 엔지니어링 노임단가(한국엔지니어협회 정책연구실-329호, ‘21.12.6)
A4: 기술사 | B4: 특급 | C4: 고급 | D4: 중급 | E4: 초급
A5: 379482 | B5: 290502 | C5: 262115 | D5: 221815 | E5: 199370
A7: 2. 단위 투입일수
A8: 항목 | B8: 세부항목 | C8: 구분 | D8: 산정방식 | E8: 투입인력 내역 | F8: 단위 투입일수 | K8: 직접인건비(원) | Q8: 편차 (%)
F9: 기술사 | G9: 특급 | H9: 고급 | I9: 중급 | J9: 초급 | K9: 기술사 | L9: 특급 | M9: 고급 | N9: 중급 | O9: 초급 | P9: 합계
A10: 시설배치도 | B10: 전체공정 | C10: 도면작성 | D10: 고정 | E10: 기술사1, 기술사1 | F10: 1.5 | G10: 0 | H10: 0 | I10: 0 | J10: 0 | K10: =A$5*F10 -> 569223 | L10: =B$5*G10 -> 0 | M10: =C$5*H10 -> 0 | N10: =D$5*I10 -> 0 | O10: =E$5*J10 -> 0 | P10: =SUM(K10:O10) -> 569223 | Q10: =(P10-P$18)/P$18*100 -> 16.198313
E11: 기술사1, 특급1 | F11: 0.9 | G11: 0.75 | H11: 0 | I11: 0 | J11: 0 | K11: =A$5*F11 -> 341533.8 | L11: =B$5*G11 -> 217876.5 | M11: =C$5*H11 -> 0 | N11: =D$5*I11 -> 0 | O11: =E$5*J11 -> 0 | P11: =SUM(K11:O11) -> 559410.3 | Q11: =(P11-P$18)/P$18*100 -> 14.195198
E12: 기술사1, 고급1 | F12: 0.9 | G12: 0 | H12: 0.8 | I12: 0 | J12: 0 | K12: =A$5*F12 -> 341533.8 | L12: =B$5*G12 -> 0 | M12: =C$5*H12 -> 209692 | N12: =D$5*I12 -> 0 | O12: =E$5*J12 -> 0 | P12: =SUM(K12:O12) -> 551225.8 | Q12: =(P12-P$18)/P$18*100 -> 12.524455
E13: 기술사1, 중급1 | F13: 0.9 | G13: 0 | H13: 0 | I13: 0.9 | J13: 0 | K13: =A$5*F13 -> 341533.8 | L13: =B$5*G13 -> 0 | M13: =C$5*H13 -> 0 | N13: =D$5*I13 -> 199633.5 | O13: =E$5*J13 -> 0 | P13: =SUM(K13:O13) -> 541167.3 | Q13: =(P13-P$18)/P$18*100 -> 10.471164
E14: 기술사1, 초급1 | F14: 0.9 | G14: 0 | H14: 0 | I14: 0 | J14: 1 | K14: =A$5*F14 -> 341533.8 | L14: =B$5*G14 -> 0 | M14: =C$5*H14 -> 0 | N14: =D$5*I14 -> 0 | O14: =E$5*J14 -> 199370 | P14: =SUM(K14:O14) -> 540903.8 | Q14: =(P14-P$18)/P$18*100 -> 10.417374
E15: 특급1, 특급1 | F15: 0 | G15: 1.8 | H15: 0 | I15: 0 | J15: 0 | K15: =A$5*F15 -> 0 | L15: =B$5*G15 -> 522903.6 | M15: =C$5*H15 -> 0 | N15: =D$5*I15 -> 0 | O15: =E$5*J15 -> 0 | P15: =SUM(K15:O15) -> 522903.6 | Q15: =(P15-P$18)/P$18*100 -> 6.7429043
E16: 특급1, 고급1 | F16: 0 | G16: 1 | H16: 0.85 | I16: 0 | J16: 0 | K16: =A$5*F16 -> 0 | L16: =B$5*G16 -> 290502 | M16: =C$5*H16 -> 222797.75 | N16: =D$5*I16 -> 0 | O16: =E$5*J16 -> 0 | P16: =SUM(K16:O16) -> 513299.75 | Q16: =(P16-P$18)/P$18*100 -> 4.7824228
E17: 특급1, 중급1 | F17: 0 | G17: 1 | H17: 0 | I17: 0.95 | J17: 0 | K17: =A$5*F17 -> 0 | L17: =B$5*G17 -> 290502 | M17: =C$5*H17 -> 0 | N17: =D$5*I17 -> 210724.25 | O17: =E$5*J17 -> 0 | P17: =SUM(K17:O17) -> 501226.25 | Q17: =(P17-P$18)/P$18*100 -> 2.3177993
E18: 특급1, 초급1 | F18: 0 | G18: 1 | H18: 0 | I18: 0 | J18: 1 | K18: =A$5*F18 -> 0 | L18: =B$5*G18 -> 290502 | M18: =C$5*H18 -> 0 | N18: =D$5*I18 -> 0 | O18: =E$5*J18 -> 199370 | P18: =SUM(K18:O18) -> 489872 | Q18: =(P18-P$18)/P$18*100 -> 0
E19: 고급1, 고급1 | F19: 0 | G19: 0 | H19: 1.85 | I19: 0 | J19: 0 | K19: =A$5*F19 -> 0 | L19: =B$5*G19 -> 0 | M19: =C$5*H19 -> 484912.75 | N19: =D$5*I19 -> 0 | O19: =E$5*J19 -> 0 | P19: =SUM(K19:O19) -> 484912.75 | Q19: =(P19-P$18)/P$18*100 -> -1.0123563
E20: 고급1, 중급1 | F20: 0 | G20: 0 | H20: 1.1 | I20: 0.85 | J20: 0 | K20: =A$5*F20 -> 0 | L20: =B$5*G20 -> 0 | M20: =C$5*H20 -> 288326.5 | N20: =D$5*I20 -> 188542.75 | O20: =E$5*J20 -> 0 | P20: =SUM(K20:O20) -> 476869.25 | Q20: =(P20-P$18)/P$18*100 -> -2.6543158
E21: 고급1, 초급1 | F21: 0 | G21: 0 | H21: 1.1 | I21: 0 | J21: 0.9 | K21: =A$5*F21 -> 0 | L21: =B$5*G21 -> 0 | M21: =C$5*H21 -> 288326.5 | N21: =D$5*I21 -> 0 | O21: =E$5*J21 -> 179433 | P21: =SUM(K21:O21) -> 467759.5 | Q21: =(P21-P$18)/P$18*100 -> -4.5139343
E22: 중급1, 중급1 | F22: 0 | G22: 0 | H22: 0 | I22: 2.1 | J22: 0 | K22: =A$5*F22 -> 0 | L22: =B$5*G22 -> 0 | M22: =C$5*H22 -> 0 | N22: =D$5*I22 -> 465811.5 | O22: =E$5*J22 -> 0 | P22: =SUM(K22:O22) -> 465811.5 | Q22: =(P22-P$18)/P$18*100 -> -4.9115891
E23: 중급1, 초급1 | F23: 0 | G23: 0 | H23: 0 | I23: 1.2 | J23: 0.95 | K23: =A$5*F23 -> 0 | L23: =B$5*G23 -> 0 | M23: =C$5*H23 -> 0 | N23: =D$5*I23 -> 266178 | O23: =E$5*J23 -> 189401.5 | P23: =SUM(K23:O23) -> 455579.5 | Q23: =(P23-P$18)/P$18*100 -> -7.000298
A24: 시설배치도 | B24: 단위공정 | C24: 도면작성 | D24: 도면수 비례하여 산정 | E24: 기술사1, 기술사1 | F24: 1.5 | G24: 0 | H24: 0 | I24: 0 | J24: 0 | K24: =A$5*F24 -> 569223 | L24: =B$5*G24 -> 0 | M24: =C$5*H24 -> 0 | N24: =D$5*I24 -> 0 | O24: =E$5*J24 -> 0 | P24: =SUM(K24:O24) -> 569223 | Q24: =(P24-P$32)/P$32*100 -> 16.198313
E25: 기술사1, 특급1 | F25: 0.9 | G25: 0.75 | H25: 0 | I25: 0 | J25: 0 | K25: =A$5*F25 -> 341533.8 | L25: =B$5*G25 -> 217876.5 | M25: =C$5*H25 -> 0 | N25: =D$5*I25 -> 0 | O25: =E$5*J25 -> 0 | P25: =SUM(K25:O25) -> 559410.3 | Q25: =(P25-P$32)/P$32*100 -> 14.195198
E26: 기술사1, 고급1 | F26: 0.9 | G26: 0 | H26: 0.8 | I26: 0 | J26: 0 | K26: =A$5*F26 -> 341533.8 | L26: =B$5*G26 -> 0 | M26: =C$5*H26 -> 209692 | N26: =D$5*I26 -> 0 | O26: =E$5*J26 -> 0 | P26: =SUM(K26:O26) -> 551225.8 | Q26: =(P26-P$32)/P$32*100 -> 12.524455
E27: 기술사1, 중급1 | F27: 0.9 | G27: 0 | H27: 0 | I27: 0.9 | J27: 0 | K27: =A$5*F27 -> 341533.8 | L27: =B$5*G27 -> 0 | M27: =C$5*H27 -> 0 | N27: =D$5*I27 -> 199633.5 | O27: =E$5*J27 -> 0 | P27: =SUM(K27:O27) -> 541167.3 | Q27: =(P27-P$32)/P$32*100 -> 10.471164
E28: 기술사1, 초급1 | F28: 0.9 | G28: 0 | H28: 0 | I28: 0 | J28: 1 | K28: =A$5*F28 -> 341533.8 | L28: =B$5*G28 -> 0 | M28: =C$5*H28 -> 0 | N28: =D$5*I28 -> 0 | O28: =E$5*J28 -> 199370 | P28: =SUM(K28:O28) -> 540903.8 | Q28: =(P28-P$32)/P$32*100 -> 10.417374
E29: 특급1, 특급1 | F29: 0 | G29: 1.8 | H29: 0 | I29: 0 | J29: 0 | K29: =A$5*F29 -> 0 | L29: =B$5*G29 -> 522903.6 | M29: =C$5*H29 -> 0 | N29: =D$5*I29 -> 0 | O29: =E$5*J29 -> 0 | P29: =SUM(K29:O29) -> 522903.6 | Q29: =(P29-P$32)/P$32*100 -> 6.7429043
E30: 특급1, 고급1 | F30: 0 | G30: 1 | H30: 0.85 | I30: 0 | J30: 0 | K30: =A$5*F30 -> 0 | L30: =B$5*G30 -> 290502 | M30: =C$5*H30 -> 222797.75 | N30: =D$5*I30 -> 0 | O30: =E$5*J30 -> 0 | P30: =SUM(K30:O30) -> 513299.75 | Q30: =(P30-P$32)/P$32*100 -> 4.7824228
E31: 특급1, 중급1 | F31: 0 | G31: 1 | H31: 0 | I31: 0.95 | J31: 0 | K31: =A$5*F31 -> 0 | L31: =B$5*G31 -> 290502 | M31: =C$5*H31 -> 0 | N31: =D$5*I31 -> 210724.25 | O31: =E$5*J31 -> 0 | P31: =SUM(K31:O31) -> 501226.25 | Q31: =(P31-P$32)/P$32*100 -> 2.3177993
E32: 특급1, 초급1 | F32: 0 | G32: 1 | H32: 0 | I32: 0 | J32: 1 | K32: =A$5*F32 -> 0 | L32: =B$5*G32 -> 290502 | M32: =C$5*H32 -> 0 | N32: =D$5*I32 -> 0 | O32: =E$5*J32 -> 199370 | P32: =SUM(K32:O32) -> 489872 | Q32: =(P32-P$32)/P$32*100 -> 0
E33: 고급1, 고급1 | F33: 0 | G33: 0 | H33: 1.85 | I33: 0 | J33: 0 | K33: =A$5*F33 -> 0 | L33: =B$5*G33 -> 0 | M33: =C$5*H33 -> 484912.75 | N33: =D$5*I33 -> 0 | O33: =E$5*J33 -> 0 | P33: =SUM(K33:O33) -> 484912.75 | Q33: =(P33-P$32)/P$32*100 -> -1.0123563
E34: 고급1, 중급1 | F34: 0 | G34: 0 | H34: 1.1 | I34: 0.85 | J34: 0 | K34: =A$5*F34 -> 0 | L34: =B$5*G34 -> 0 | M34: =C$5*H34 -> 288326.5 | N34: =D$5*I34 -> 188542.75 | O34: =E$5*J34 -> 0 | P34: =SUM(K34:O34) -> 476869.25 | Q34: =(P34-P$32)/P$32*100 -> -2.6543158
E35: 고급1, 초급1 | F35: 0 | G35: 0 | H35: 1.1 | I35: 0 | J35: 0.9 | K35: =A$5*F35 -> 0 | L35: =B$5*G35 -> 0 | M35: =C$5*H35 -> 288326.5 | N35: =D$5*I35 -> 0 | O35: =E$5*J35 -> 179433 | P35: =SUM(K35:O35) -> 467759.5 | Q35: =(P35-P$32)/P$32*100 -> -4.5139343
E36: 중급1, 중급1 | F36: 0 | G36: 0 | H36: 0 | I36: 2.1 | J36: 0 | K36: =A$5*F36 -> 0 | L36: =B$5*G36 -> 0 | M36: =C$5*H36 -> 0 | N36: =D$5*I36 -> 465811.5 | O36: =E$5*J36 -> 0 | P36: =SUM(K36:O36) -> 465811.5 | Q36: =(P36-P$32)/P$32*100 -> -4.9115891
E37: 중급1, 초급1 | F37: 0 | G37: 0 | H37: 0 | I37: 1.2 | J37: 0.95 | K37: =A$5*F37 -> 0 | L37: =B$5*G37 -> 0 | M37: =C$5*H37 -> 0 | N37: =D$5*I37 -> 266178 | O37: =E$5*J37 -> 189401.5 | P37: =SUM(K37:O37) -> 455579.5 | Q37: =(P37-P$32)/P$32*100 -> -7.000298
A38: 공정도면 | B38: P&ID | C38: 도면작성 | D38: 도면수 비례하여 산정 | E38: 기술사1, 기술사1 | F38: 1.55 | G38: 0 | H38: 0 | I38: 0 | J38: 0 | K38: =A$5*F38 -> 588197.1 | L38: =B$5*G38 -> 0 | M38: =C$5*H38 -> 0 | N38: =D$5*I38 -> 0 | O38: =E$5*J38 -> 0 | P38: =SUM(K38:O38) -> 588197.1 | Q38: =(P38-P$46)/P$46*100 -> 15.375974
E39: 기술사1, 특급1 | F39: 0.95 | G39: 0.75 | H39: 0 | I39: 0 | J39: 0 | K39: =A$5*F39 -> 360507.9 | L39: =B$5*G39 -> 217876.5 | M39: =C$5*H39 -> 0 | N39: =D$5*I39 -> 0 | O39: =E$5*J39 -> 0 | P39: =SUM(K39:O39) -> 578384.4 | Q39: =(P39-P$46)/P$46*100 -> 13.451194
E40: 기술사1, 고급1 | F40: 0.95 | G40: 0 | H40: 0.8 | I40: 0 | J40: 0 | K40: =A$5*F40 -> 360507.9 | L40: =B$5*G40 -> 0 | M40: =C$5*H40 -> 209692 | N40: =D$5*I40 -> 0 | O40: =E$5*J40 -> 0 | P40: =SUM(K40:O40) -> 570199.9 | Q40: =(P40-P$46)/P$46*100 -> 11.845789
E41: 기술사1, 중급1 | F41: 0.95 | G41: 0 | H41: 0 | I41: 0.9 | J41: 0 | K41: =A$5*F41 -> 360507.9 | L41: =B$5*G41 -> 0 | M41: =C$5*H41 -> 0 | N41: =D$5*I41 -> 199633.5 | O41: =E$5*J41 -> 0 | P41: =SUM(K41:O41) -> 560141.4 | Q41: =(P41-P$46)/P$46*100 -> 9.8727955
E42: 기술사1, 초급1 | F42: 0.95 | G42: 0 | H42: 0 | I42: 0 | J42: 1 | K42: =A$5*F42 -> 360507.9 | L42: =B$5*G42 -> 0 | M42: =C$5*H42 -> 0 | N42: =D$5*I42 -> 0 | O42: =E$5*J42 -> 199370 | P42: =SUM(K42:O42) -> 559877.9 | Q42: =(P42-P$46)/P$46*100 -> 9.8211095
...
