Workbook

Sheet 1. 비용 산정양식
A1: □ 통합허가 컨설팅 비용 산출양식
A3: 1. 사업장 현황
A4: 사업장명 | B4: OOOOO㈜
A5: 주 소 | B5: OOO도 OOO시 OOO구 OOO로 000-00
A6: 연 락 처 | B6: 000-000-0000
A7: 매체 구분 | B7: 시설 구분 | C7: 배출시설 | D7: 오염물질 | L7: 방지시설 | N7: 모델링 수량
A8: 대기 | B8: 기모 | C8: 3 | D8: TSP | L8: 여과 | N8: 3
B9: 다림질 | C9: 2 | D9: TSP,NOx,SOx,Formaldehyde | L9: 세정/전기 | N9: 1
B10: 보일러 | C10: - | D10: - | L10: - | N10: -
B11: 건조 | C11: - | D11: - | L11: - | N11: -
A12: 수질 | B12: 염색,가공 | C12: 1 | D12: PH,BOD,TOC,SS,n-H,ABS,T-N,T-P,색도,생태독성,시안,Cu,As,Cr+6 | L12: 공동방지시설 | N12: -
B13: 폐가스세정 | C13: 1 | D13: PH,BOD,TOC,SS,n-H,ABS,T-N,T-P,색도,생태독성,시안,Cu,As,Cr+6 | L13: 공동방지시설 | N13: -
B14: 실험실 | C14: - | D14: - | N14: -
A16: 2. 컨설팅 비용 산정내역
A17: 항목 | B17: 세부항목 | C17: 구 분 | D17: 산정방식 | E17: 투입인력 내역 | G17: 단위 투입일수(MD) | L17: 수량 | M17: 산정 투입일수(MD) | R17: 직접인건비
G18: 기술사 | H18: 특급 | I18: 고급 | J18: 중급 | K18: 초급 | M18: 기술사 | N18: 특급 | O18: 고급 | P18: 중급 | Q18: 초급 | R18: 기술사 | S18: 특급 | T18: 고급 | U18: 중급 | V18: 초급 | W18: 합계
A19: 시설배치도 | B19: 전체공정 | C19: 도면작성 | D19: 고정 | E19: 특급1 | F19: 초급1 | G19: =IF(OR(E19="",F19=""),"",VLOOKUP(CONCATENATE($E19,", ",$F19),'2. 컨설팅 단위 투입일수'!$E$10:$J$23,2,FALSE)) -> 0 | H19: =IF(OR(E19="",F19=""),"",VLOOKUP(CONCATENATE($E19,", ",$F19),'2. 컨설팅 단위 투입일수'!$E$10:$J$23,3,FALSE)) -> 1 | I19: =IF(OR(E19="",F19=""),"",VLOOKUP(CONCATENATE($E19,", ",$F19),'2. 컨설팅 단위 투입일수'!$E$10:$J$23,4,FALSE)) -> 0 | J19: =IF(OR(E19="",F19=""),"",VLOOKUP(CONCATENATE($E19,", ",$F19),'2. 컨설팅 단위 투입일수'!$E$10:$J$23,5,FALSE)) -> 0 | K19: =IF(OR(E19="",F19=""),"",VLOOKUP(CONCATENATE($E19,", ",$F19),'2. 컨설팅 단위 투입일수'!$E$10:$J$23,6,FALSE)) -> 1 | L19: 1 | M19: =IF(G19="","",G19*$L19) -> 0 | N19: =IF(H19="","",H19*$L19) -> 1 | O19: =IF(I19="","",I19*$L19) -> 0 | P19: =IF(J19="","",J19*$L19) -> 0 | Q19: =IF(K19="","",K19*$L19) -> 1 | R19: =IF(M19="","",M19*'2. 컨설팅 단위 투입일수'!$A$5) -> 0 | S19: =IF(N19="","",N19*'2. 컨설팅 단위 투입일수'!$B$5) -> 290502 | T19: =IF(O19="","",O19*'2. 컨설팅 단위 투입일수'!$C$5) -> 0 | U19: =IF(P19="","",P19*'2. 컨설팅 단위 투입일수'!$D$5) -> 0 | V19: =IF(Q19="","",Q19*'2. 컨설팅 단위 투입일수'!$E$5) -> 199370 | W19: =IF(R19="","",SUM(R19:V19)) -> 489872
B20: 단위공정 | C20: 도면작성 | D20: 도면수 비례 | E20: 특급1 | F20: 초급1 | G20: =IF(OR(E20="",F20=""),"",VLOOKUP(CONCATENATE($E20,", ",$F20),'2. 컨설팅 단위 투입일수'!$E$24:$J$37,2,FALSE)) -> 0 | H20: =IF(OR(E20="",F20=""),"",VLOOKUP(CONCATENATE($E20,", ",$F20),'2. 컨설팅 단위 투입일수'!$E$24:$J$37,3,FALSE)) -> 1 | I20: =IF(OR(E20="",F20=""),"",VLOOKUP(CONCATENATE($E20,", ",$F20),'2. 컨설팅 단위 투입일수'!$E$24:$J$37,4,FALSE)) -> 0 | J20: =IF(OR(E20="",F20=""),"",VLOOKUP(CONCATENATE($E20,", ",$F20),'2. 컨설팅 단위 투입일수'!$E$24:$J$37,5,FALSE)) -> 0 | K20: =IF(OR(E20="",F20=""),"",VLOOKUP(CONCATENATE($E20,", ",$F20),'2. 컨설팅 단위 투입일수'!$E$24:$J$37,6,FALSE)) -> 1 | L20: 1 | M20: =IF(G20="","",G20*$L20) -> 0 | N20: =IF(H20="","",H20*$L20) -> 1 | O20: =IF(I20="","",I20*$L20) -> 0 | P20: =IF(J20="","",J20*$L20) -> 0 | Q20: =IF(K20="","",K20*$L20) -> 1 | R20: =IF(M20="","",M20*'2. 컨설팅 단위 투입일수'!$A$5) -> 0 | S20: =IF(N20="","",N20*'2. 컨설팅 단위 투입일수'!$B$5) -> 290502 | T20: =IF(O20="","",O20*'2. 컨설팅 단위 투입일수'!$C$5) -> 0 | U20: =IF(P20="","",P20*'2. 컨설팅 단위 투입일수'!$D$5) -> 0 | V20: =IF(Q20="","",Q20*'2. 컨설팅 단위 투입일수'!$E$5) -> 199370 | W20: =IF(R20="","",SUM(R20:V20)) -> 489872
A21: 공정도면 | B21: P&ID | C21: 도면작성 | D21: 도면수 비례 | E21: 특급1 | F21: 초급1 | G21: =IF(OR(E21="",F21=""),"",VLOOKUP(CONCATENATE($E21,", ",$F21),'2. 컨설팅 단위 투입일수'!$E$38:$J$51,2,FALSE)) -> 0 | H21: =IF(OR(E21="",F21=""),"",VLOOKUP(CONCATENATE($E21,", ",$F21),'2. 컨설팅 단위 투입일수'!$E$38:$J$51,3,FALSE)) -> 1 | I21: =IF(OR(E21="",F21=""),"",VLOOKUP(CONCATENATE($E21,", ",$F21),'2. 컨설팅 단위 투입일수'!$E$38:$J$51,4,FALSE)) -> 0 | J21: =IF(OR(E21="",F21=""),"",VLOOKUP(CONCATENATE($E21,", ",$F21),'2. 컨설팅 단위 투입일수'!$E$38:$J$51,5,FALSE)) -> 0 | K21: =IF(OR(E21="",F21=""),"",VLOOKUP(CONCATENATE($E21,", ",$F21),'2. 컨설팅 단위 투입일수'!$E$38:$J$51,6,FALSE)) -> 1.1 | L21: 5 | M21: =IF(G21="","",G21*$L21) -> 0 | N21: =IF(H21="","",H21*$L21) -> 5 | O21: =IF(I21="","",I21*$L21) -> 0 | P21: =IF(J21="","",J21*$L21) -> 0 | Q21: =IF(K21="","",K21*$L21) -> 5.5 | R21: =IF(M21="","",M21*'2. 컨설팅 단위 투입일수'!$A$5) -> 0 | S21: =IF(N21="","",N21*'2. 컨설팅 단위 투입일수'!$B$5) -> 1452510 | T21: =IF(O21="","",O21*'2. 컨설팅 단위 투입일수'!$C$5) -> 0 | U21: =IF(P21="","",P21*'2. 컨설팅 단위 투입일수'!$D$5) -> 0 | V21: =IF(Q21="","",Q21*'2. 컨설팅 단위 투입일수'!$E$5) -> 1096535 | W21: =IF(R21="","",SUM(R21:V21)) -> 2549045
B22: PFD | C22: 도면작성 | D22: 도면수 비례 | E22: 특급1 | F22: 초급1 | G22: =IF(OR(E22="",F22=""),"",VLOOKUP(CONCATENATE(E22,", ",F22),'2. 컨설팅 단위 투입일수'!$E$52:$J$65,2,FALSE)) -> 0 | H22: =IF(OR(E22="",F22=""),"",VLOOKUP(CONCATENATE($E22,", ",$F22),'2. 컨설팅 단위 투입일수'!$E$52:$J$65,3,FALSE)) -> 0.75 | I22: =IF(OR(E22="",F22=""),"",VLOOKUP(CONCATENATE($E22,", ",$F22),'2. 컨설팅 단위 투입일수'!$E$52:$J$65,4,FALSE)) -> 0 | J22: =IF(OR(E22="",F22=""),"",VLOOKUP(CONCATENATE($E22,", ",$F22),'2. 컨설팅 단위 투입일수'!$E$52:$J$65,5,FALSE)) -> 0 | K22: =IF(OR(E22="",F22=""),"",VLOOKUP(CONCATENATE($E22,", ",$F22),'2. 컨설팅 단위 투입일수'!$E$52:$J$65,6,FALSE)) -> 0.5 | L22: 2 | M22: =IF(G22="","",G22*$L22) -> 0 | N22: =IF(H22="","",H22*$L22) -> 1.5 | O22: =IF(I22="","",I22*$L22) -> 0 | P22: =IF(J22="","",J22*$L22) -> 0 | Q22: =IF(K22="","",K22*$L22) -> 1 | R22: =IF(M22="","",M22*'2. 컨설팅 단위 투입일수'!$A$5) -> 0 | S22: =IF(N22="","",N22*'2. 컨설팅 단위 투입일수'!$B$5) -> 435753 | T22: =IF(O22="","",O22*'2. 컨설팅 단위 투입일수'!$C$5) -> 0 | U22: =IF(P22="","",P22*'2. 컨설팅 단위 투입일수'!$D$5) -> 0 | V22: =IF(Q22="","",Q22*'2. 컨설팅 단위 투입일수'!$E$5) -> 199370 | W22: =IF(R22="","",SUM(R22:V22)) -> 635123
A23: 질량수지 | B23: 전체공정 | C23: 목록작성 | D23: 고정 | E23: 특급1 | F23: 중급1 | G23: =IF(OR(E23="",F23=""),"",VLOOKUP(CONCATENATE($E23,", ",$F23),'2. 컨설팅 단위 투입일수'!$E$66:$J$79,2,FALSE)) -> 0 | H23: =IF(OR(E23="",F23=""),"",VLOOKUP(CONCATENATE($E23,", ",$F23),'2. 컨설팅 단위 투입일수'!$E$66:$J$79,3,FALSE)) -> 1 | I23: =IF(OR(E23="",F23=""),"",VLOOKUP(CONCATENATE($E23,", ",$F23),'2. 컨설팅 단위 투입일수'!$E$66:$J$79,4,FALSE)) -> 0 | J23: =IF(OR(E23="",F23=""),"",VLOOKUP(CONCATENATE($E23,", ",$F23),'2. 컨설팅 단위 투입일수'!$E$66:$J$79,5,FALSE)) -> 0.95 | K23: =IF(OR(E23="",F23=""),"",VLOOKUP(CONCATENATE($E23,", ",$F23),'2. 컨설팅 단위 투입일수'!$E$66:$J$79,6,FALSE)) -> 0 | L23: 1 | M23: =IF(G23="","",G23*$L23) -> 0 | N23: =IF(H23="","",H23*$L23) -> 1 | O23: =IF(I23="","",I23*$L23) -> 0 | P23: =IF(J23="","",J23*$L23) -> 0.95 | Q23: =IF(K23="","",K23*$L23) -> 0 | R23: =IF(M23="","",M23*'2. 컨설팅 단위 투입일수'!$A$5) -> 0 | S23: =IF(N23="","",N23*'2. 컨설팅 단위 투입일수'!$B$5) -> 290502 | T23: =IF(O23="","",O23*'2. 컨설팅 단위 투입일수'!$C$5) -> 0 | U23: =IF(P23="","",P23*'2. 컨설팅 단위 투입일수'!$D$5) -> 210724.25 | V23: =IF(Q23="","",Q23*'2. 컨설팅 단위 투입일수'!$E$5) -> 0 | W23: =IF(R23="","",SUM(R23:V23)) -> 501226.25
A24: 모델링 | B24: 대기자료수집 | C24: 배출구 조사 | D24: 배출구수 비례 | E24: 특급1 | F24: 초급1 | G24: =IF(OR(E24="",F24=""),"",VLOOKUP(CONCATENATE($E24,", ",$F24),'2. 컨설팅 단위 투입일수'!$E$80:$J$93,2,FALSE)) -> 0 | H24: =IF(OR(E24="",F24=""),"",VLOOKUP(CONCATENATE($E24,", ",$F24),'2. 컨설팅 단위 투입일수'!$E$80:$J$93,3,FALSE)) -> 1.2 | I24: =IF(OR(E24="",F24=""),"",VLOOKUP(CONCATENATE($E24,", ",$F24),'2. 컨설팅 단위 투입일수'!$E$80:$J$93,4,FALSE)) -> 0 | J24: =IF(OR(E24="",F24=""),"",VLOOKUP(CONCATENATE($E24,", ",$F24),'2. 컨설팅 단위 투입일수'!$E$80:$J$93,5,FALSE)) -> 0 | K24: =IF(OR(E24="",F24=""),"",VLOOKUP(CONCATENATE($E24,", ",$F24),'2. 컨설팅 단위 투입일수'!$E$80:$J$93,6,FALSE)) -> 1.4 | L24: 5 | M24: =IF(G24="","",G24*$L24) -> 0 | N24: =IF(H24="","",H24*$L24) -> 6 | O24: =IF(I24="","",I24*$L24) -> 0 | P24: =IF(J24="","",J24*$L24) -> 0 | Q24: =IF(K24="","",K24*$L24) -> 7 | R24: =IF(M24="","",M24*'2. 컨설팅 단위 투입일수'!$A$5) -> 0 | S24: =IF(N24="","",N24*'2. 컨설팅 단위 투입일수'!$B$5) -> 1743012 | T24: =IF(O24="","",O24*'2. 컨설팅 단위 투입일수'!$C$5) -> 0 | U24: =IF(P24="","",P24*'2. 컨설팅 단위 투입일수'!$D$5) -> 0 | V24: =IF(Q24="","",Q24*'2. 컨설팅 단위 투입일수'!$E$5) -> 1395590 | W24: =IF(R24="","",SUM(R24:V24)) -> 3138602
B25: 대기모델링 | C25: 모델링 작업 | D25: 고정 | E25: 특급1 | F25: 초급1 | G25: =IF(OR(E25="",F25=""),"",VLOOKUP(CONCATENATE($E25,", ",$F25),'2. 컨설팅 단위 투입일수'!$E$94:$J$107,2,FALSE)) -> 0 | H25: =IF(OR(E25="",F25=""),"",VLOOKUP(CONCATENATE($E25,", ",$F25),'2. 컨설팅 단위 투입일수'!$E$94:$J$107,3,FALSE)) -> 1 | I25: =IF(OR(E25="",F25=""),"",VLOOKUP(CONCATENATE($E25,", ",$F25),'2. 컨설팅 단위 투입일수'!$E$94:$J$107,4,FALSE)) -> 0 | J25: =IF(OR(E25="",F25=""),"",VLOOKUP(CONCATENATE($E25,", ",$F25),'2. 컨설팅 단위 투입일수'!$E$94:$J$107,5,FALSE)) -> 0 | K25: =IF(OR(E25="",F25=""),"",VLOOKUP(CONCATENATE($E25,", ",$F25),'2. 컨설팅 단위 투입일수'!$E$94:$J$107,6,FALSE)) -> 1 | L25: 1 | M25: =IF(G25="","",G25*$L25) -> 0 | N25: =IF(H25="","",H25*$L25) -> 1 | O25: =IF(I25="","",I25*$L25) -> 0 | P25: =IF(J25="","",J25*$L25) -> 0 | Q25: =IF(K25="","",K25*$L25) -> 1 | R25: =IF(M25="","",M25*'2. 컨설팅 단위 투입일수'!$A$5) -> 0 | S25: =IF(N25="","",N25*'2. 컨설팅 단위 투입일수'!$B$5) -> 290502 | T25: =IF(O25="","",O25*'2. 컨설팅 단위 투입일수'!$C$5) -> 0 | U25: =IF(P25="","",P25*'2. 컨설팅 단위 투입일수'!$D$5) -> 0 | V25: =IF(Q25="","",Q25*'2. 컨설팅 단위 투입일수'!$E$5) -> 199370 | W25: =IF(R25="","",SUM(R25:V25)) -> 489872
B26: 폐수자료수집 | C26: 방류구 조사 | D26: 방류구수 비례 | E26: 특급1 | F26: 초급1 | G26: =IF(OR(E26="",F26=""),"",VLOOKUP(CONCATENATE($E26,", ",$F26),'2. 컨설팅 단위 투입일수'!$E$108:$J$121,2,FALSE)) -> 0 | H26: =IF(OR(E26="",F26=""),"",VLOOKUP(CONCATENATE($E26,", ",$F26),'2. 컨설팅 단위 투입일수'!$E$108:$J$121,3,FALSE)) -> 1 | I26: =IF(OR(E26="",F26=""),"",VLOOKUP(CONCATENATE($E26,", ",$F26),'2. 컨설팅 단위 투입일수'!$E$108:$J$121,4,FALSE)) -> 0 | J26: =IF(OR(E26="",F26=""),"",VLOOKUP(CONCATENATE($E26,", ",$F26),'2. 컨설팅 단위 투입일수'!$E$108:$J$121,5,FALSE)) -> 0 | K26: =IF(OR(E26="",F26=""),"",VLOOKUP(CONCATENATE($E26,", ",$F26),'2. 컨설팅 단위 투입일수'!$E$108:$J$121,6,FALSE)) -> 2 | L26: 1 | M26: =IF(G26="","",G26*$L26) -> 0 | N26: =IF(H26="","",H26*$L26) -> 1 | O26: =IF(I26="","",I26*$L26) -> 0 | P26: =IF(J26="","",J26*$L26) -> 0 | Q26: =IF(K26="","",K26*$L26) -> 2 | R26: =IF(M26="","",M26*'2. 컨설팅 단위 투입일수'!$A$5) -> 0 | S26: =IF(N26="","",N26*'2. 컨설팅 단위 투입일수'!$B$5) -> 290502 | T26: =IF(O26="","",O26*'2. 컨설팅 단위 투입일수'!$C$5) -> 0 | U26: =IF(P26="","",P26*'2. 컨설팅 단위 투입일수'!$D$5) -> 0 | V26: =IF(Q26="","",Q26*'2. 컨설팅 단위 투입일수'!$E$5) -> 398740 | W26: =IF(R26="","",SUM(R26:V26)) -> 689242
B27: 폐수모델링 | C27: 모델링 작업 | D27: 고정 | E27: 특급1 | F27: 초급1 | G27: =IF(OR(E27="",F27=""),"",VLOOKUP(CONCATENATE($E27,", ",$F27),'2. 컨설팅 단위 투입일수'!$E$122:$J$135,2,FALSE)) -> 0 | H27: =IF(OR(E27="",F27=""),"",VLOOKUP(CONCATENATE($E27,", ",$F27),'2. 컨설팅 단위 투입일수'!$E$122:$J$135,3,FALSE)) -> 1 | I27: =IF(OR(E27="",F27=""),"",VLOOKUP(CONCATENATE($E27,", ",$F27),'2. 컨설팅 단위 투입일수'!$E$122:$J$135,4,FALSE)) -> 0 | J27: =IF(OR(E27="",F27=""),"",VLOOKUP(CONCATENATE($E27,", ",$F27),'2. 컨설팅 단위 투입일수'!$E$122:$J$135,5,FALSE)) -> 0 | K27: =IF(OR(E27="",F27=""),"",VLOOKUP(CONCATENATE($E27,", ",$F27),'2. 컨설팅 단위 투입일수'!$E$122:$J$135,6,FALSE)) -> 1 | L27: 1 | M27: =IF(G27="","",G27*$L27) -> 0 | N27: =IF(H27="","",H27*$L27) -> 1 | O27: =IF(I27="","",I27*$L27) -> 0 | P27: =IF(J27="","",J27*$L27) -> 0 | Q27: =IF(K27="","",K27*$L27) -> 1 | R27: =IF(M27="","",M27*'2. 컨설팅 단위 투입일수'!$A$5) -> 0 | S27: =IF(N27="","",N27*'2. 컨설팅 단위 투입일수'!$B$5) -> 290502 | T27: =IF(O27="","",O27*'2. 컨설팅 단위 투입일수'!$C$5) -> 0 | U27: =IF(P27="","",P27*'2. 컨설팅 단위 투입일수'!$D$5) -> 0 | V27: =IF(Q27="","",Q27*'2. 컨설팅 단위 투입일수'!$E$5) -> 199370 | W27: =IF(R27="","",SUM(R27:V27)) -> 489872
A28: 사업비 비용산출 | B28: 직접인건비 | E28: 항목별 직접인건비 합계 | V28: =SUM(W19:W27) -> 9472726.2
B29: 제경비 | E29: 직접인건비 × 15% | V29: =V28*0.15 -> 1420908.9
B30: 기술료 | E30: (직접인건비+제경비) × 5% | V30: =SUM(V28:W29)*0.05 -> 544681.76
B31: 사업비 총계 | V31: =SUM(V28:W30) -> 11438317
A32: 정부지원금 | B32: 최대 2,000만원 | V32: =IF(V31>20000000,20000000,V31) -> 11438317
A33: 지원사업장 부담금 | B33: 지원한도 초과금 | E33: 정부지원금 상한 초과액 | V33: =IF(V31>20000000,V31-20000000,"-") -> -
B34: 지원한도 초과금에 대한 부가가치세 | E34: 지원한도 초과금의 10% | V34: =IF(V33="-","-",ROUNDDOWN(V33*0.1,-1)) -> -
B35: 정부지원금에 대한 부가가치세 | E35: 정부지원금의 10% | V35: =ROUNDDOWN(V32*0.1,-1) -> 1143830

Sheet 2. 컨설팅 단위 투입일수
A1: □ 통합허가 컨설팅 단위 투입일수
A3: 1. 환경부문별 엔지니어링 노임단가(한국엔지니어협회 정책연구실-329호, ‘21.12.6)
A4: 기술사 | B4: 특급 | C4: 고급 | D4: 중급 | E4: 초급
A5: 379482 | B5: 290502 | C5: 262115 | D5: 221815 | E5: 199370
A7: 2. 단위 투입일수
A8: 항목 | B8: 세부항목 | C8: 구분 | D8: 산정방식 | E8: 투입인력 내역 | F8: 단위 투입일수 | K8: 직접인건비(원) | Q8: 편차 (%)
F9: 기술사 | G9: 특급 | H9: 고급 | I9: 중급 | J9: 초급 | K9: 기술사 | L9: 특급 | M9: 고급 | N9: 중급 | O9: 초급 | P9: 합계
A10: 시설배치도 | B10: 전체공정 | C10: 도면작성 | D10: 고정 | E10: 기술사1, 기술사1 | F10: 1.5 | G10: 0 | H10: 0 | I10: 0 | J10: 0 | K10: =A$5*F10 -> 569223 | L10: =B$5*G10 -> 0 | M10: =C$5*H10 -> 0 | N10: =D$5*I10 -> 0 | O10: =E$5*J10 -> 0 | P10: =SUM(K10:O10) -> 569223 | Q10: =(P10-P$18)/P$18*100 -> 16.198313
E11: 기술사1, 특급1 | F11: 0.9 | G11: 0.75 | H11: 0 | I11: 0 | J11: 0 | K11: =A$5*F11 -> 341533.8 | L11: =B$5*G11 -> 217876.5 | M11: =C$5*H11 -> 0 | N11: =D$5*I11 -> 0 | O11: =E$5*J11 -> 0 | P11: =SUM(K11:O11) -> 559410.3 | Q11: =(P11-P$18)/P$18*100 -> 14.195198
E12: 기술사1, 고급1 | F12: 0.9 | G12: 0 | H12: 0.8 | I12: 0 | J12: 0 | K12: =A$5*F12 -> 341533.8 | L12: =B$5*G12 -> 0 | M12: =C$5*H12 -> 209692 | N12: =D$5*I12 -> 0 | O12: =E$5*J12 -> 0 | P12: =SUM(K12:O12) -> 551225.8 | Q12: =(P12-P$18)/P$18*100 -> 12.524455
E13: 기술사1, 중급1 | F13: 0.9 | G13: 0 | H13: 0 | I13: 0.9 | J13: 0 | K13: =A$5*F13 -> 341533.8 | L13: =B$5*G13 -> 0 | M13: =C$5*H13 -> 0 | N13: =D$5*I13 -> 199633.5 | O13: =E$5*J13 -> 0 | P13: =SUM(K13:O13) -> 541167.3 | Q13: =(P13-P$18)/P$18*100 -> 10.471164
E14: 기술사1, 초급1 | F14: 0.9 | G14: 0 | H14: 0 | I14: 0 | J14: 1 | K14: =A$5*F14 -> 341533.8 | L14: =B$5*G14 -> 0 | M14: =C$5*H14 -> 0 | N14: =D$5*I14 -> 0 | O14: =E$5*J14 -> 199370 | P14: =SUM(K14:O14) -> 540903.8 | Q14: =(P14-P$18)/P$18*100 -> 10.417374
E15: 특급1, 특급1 | F15: 0 | G15: 1.8 | H15: 0 | I15: 0 | J15: 0 | K15: =A$5*F15 -> 0 | L15: =B$5*G15 -> 522903.6 | M15: =C$5*H15 -> 0 | N15: =D$5*I15 -> 0 | O15: =E$5*J15 -> 0 | P15: =SUM(K15:O15) -> 522903.6 | Q15: =(P15-P$18)/P$18*100 -> 6.7429043
E16: 특급1, 고급1 | F16: 0 | G16: 1 | H16: 0.85 | I16: 0 | J16: 0 | K16: =A$5*F16 -> 0 | L16: =B$5*G16 -> 290502 | M16: =C$5*H16 -> 222797.75 | N16: =D$5*I16 -> 0 | O16: =E$5*J16 -> 0 | P16: =SUM(K16:O16) -> 513299.75 | Q16: =(P16-P$18)/P$18*100 -> 4.7824228
E17: 특급1, 중급1 | F17: 0 | G17: 1 | H17: 0 | I17: 0.95 | J17: 0 | K17: =A$5*F17 -> 0 | L17: =B$5*G17 -> 290502 | M17: =C$5*H17 -> 0 | N17: =D$5*I17 -> 210724.25 | O17: =E$5*J17 -> 0 | P17: =SUM(K17:O17) -> 501226.25 | Q17: =(P17-P$18)/P$18*100 -> 2.3177993
E18: 특급1, 초급1 | F18: 0 | G18: 1 | H18: 0 | I18: 0 | J18: 1 | K18: =A$5*F18 -> 0 | L18: =B$5*G18 -> 290502 | M18: =C$5*H18 -> 0 | N18: =D$5*I18 -> 0 | O18: =E$5*J18 -> 199370 | P18: =SUM(K18:O18) -> 489872 | Q18: =(P18-P$18)/P$18*100 -> 0
E19: 고급1, 고급1 | F19: 0 | G19: 0 | H19: 1.85 | I19: 0 | J19: 0 | K19: =A$5*F19 -> 0 | L19: =B$5*G19 -> 0 | M19: =C$5*H19 -> 484912.75 | N19: =D$5*I19 -> 0 | O19: =E$5*J19 -> 0 | P19: =SUM(K19:O19) -> 484912.75 | Q19: =(P19-P$18)/P$18*100 -> -1.0123563
E20: 고급1, 중급1 | F20: 0 | G20: 0 | H20: 1.1 | I20: 0.85 | J20: 0 | K20: =A$5*F20 -> 0 | L20: =B$5*G20 -> 0 | M20: =C$5*H20 -> 288326.5 | N20: =D$5*I20 -> 188542.75 | O20: =E$5*J20 -> 0 | P20: =SUM(K20:O20) -> 476869.25 | Q20: =(P20-P$18)/P$18*100 -> -2.6543158
E21: 고급1, 초급1 | F21: 0 | G21: 0 | H21: 1.1 | I21: 0 | J21: 0.9 | K21: =A$5*F21 -> 0 | L21: =B$5*G21 -> 0 | M21: =C$5*H21 -> 288326.5 | N21: =D$5*I21 -> 0 | O21: =E$5*J21 -> 179433 | P21: =SUM(K21:O21) -> 467759.5 | Q21: =(P21-P$18)/P$18*100 -> -4.5139343
E22: 중급1, 중급1 | F22: 0 | G22: 0 | H22: 0 | I22: 2.1 | J22: 0 | K22: =A$5*F22 -> 0 | L22: =B$5*G22 -> 0 | M22: =C$5*H22 -> 0 | N22: =D$5*I22 -> 465811.5 | O22: =E$5*J22 -> 0 | P22: =SUM(K22:O22) -> 465811.5 | Q22: =(P22-P$18)/P$18*100 -> -4.9115891
E23: 중급1, 초급1 | F23: 0 | G23: 0 | H23: 0 | I23: 1.2 | J23: 0.95 | K23: =A$5*F23 -> 0 | L23: =B$5*G23 -> 0 | M23: =C$5*H23 -> 0 | N23: =D$5*I23 -> 266178 | O23: =E$5*J23 -> 189401.5 | P23: =SUM(K23:O23) -> 455579.5 | Q23: =(P23-P$18)/P$18*100 -> -7.000298
A24: 시설배치도 | B24: 단위공정 | C24: 도면작성 | D24: 도면수 비례하여 산정 | E24: 기술사1, 기술사1 | F24: 1.5 | G24: 0 | H24: 0 | I24: 0 | J24: 0 | K24: =A$5*F24 -> 569223 | L24: =B$5*G24 -> 0 | M24: =C$5*H24 -> 0 | N24: =D$5*I24 -> 0 | O24: =E$5*J24 -> 0 | P24: =SUM(K24:O24) -> 569223 | Q24: =(P24-P$32)/P$32*100 -> 16.198313
E25: 기술사1, 특급1 | F25: 0.9 | G25: 0.75 | H25: 0 | I25: 0 | J25: 0 | K25: =A$5*F25 -> 341533.8 | L25: =B$5*G25 -> 217876.5 | M25: =C$5*H25 -> 0 | N25: =D$5*I25 -> 0 | O25: =E$5*J25 -> 0 | P25: =SUM(K25:O25) -> 559410.3 | Q25: =(P25-P$32)/P$32*100 -> 14.195198
E26: 기술사1, 고급1 | F26: 0.9 | G26: 0 | H26: 0.8 | I26: 0 | J26: 0 | K26: =A$5*F26 -> 341533.8 | L26: =B$5*G26 -> 0 | M26: =C$5*H26 -> 209692 | N26: =D$5*I26 -> 0 | O26: =E$5*J26 -> 0 | P26: =SUM(K26:O26) -> 551225.8 | Q26: =(P26-P$32)/P$32*100 -> 12.524455
E27: 기술사1, 중급1 | F27: 0.9 | G27: 0 | H27: 0 | I27: 0.9 | J27: 0 | K27: =A$5*F27 -> 341533.8 | L27: =B$5*G27 -> 0 | M27: =C$5*H27 -> 0 | N27: =D$5*I27 -> 199633.5 | O27: =E$5*J27 -> 0 | P27: =SUM(K27:O27) -> 541167.3 | Q27: =(P27-P$32)/P$32*100 -> 10.471164
E28: 기술사1, 초급1 | F28: 0.9 | G28: 0 | H28: 0 | I28: 0 | J28: 1 | K28: =A$5*F28 -> 341533.8 | L28: =B$5*G28 -> 0 | M28: =C$5*H28 -> 0 | N28: =D$5*I28 -> 0 | O28: =E$5*J28 -> 199370 | P28: =SUM(K28:O28) -> 540903.8 | Q28: =(P28-P$32)/P$32*100 -> 10.417374
E29: 특급1, 특급1 | F29: 0 | G29: 1.8 | H29: 0 | I29: 0 | J29: 0 | K29: =A$5*F29 -> 0 | L29: =B$5*G29 -> 522903.6 | M29: =C$5*H29 -> 0 | N29: =D$5*I29 -> 0 | O29: =E$5*J29 -> 0 | P29: =SUM(K29:O29) -> 522903.6 | Q29: =(P29-P$32)/P$32*100 -> 6.7429043
E30: 특급1, 고급1 | F30: 0 | G30: 1 | H30: 0.85 | I30: 0 | J30: 0 | K30: =A$5*F30 -> 0 | L30: =B$5*G30 -> 290502 | M30: =C$5*H30 -> 222797.75 | N30: =D$5*I30 -> 0 | O30: =E$5*J30 -> 0 | P30: =SUM(K30:O30) -> 513299.75 | Q30: =(P30-P$32)/P$32*100 -> 4.7824228
E31: 특급1, 중급1 | F31: 0 | G31: 1 | H31: 0 | I31: 0.95 | J31: 0 | K31: =A$5*F31 -> 0 | L31: =B$5*G31 -> 290502 | M31: =C$5*H31 -> 0 | N31: =D$5*I31 -> 210724.25 | O31: =E$5*J31 -> 0 | P31: =SUM(K31:O31) -> 501226.25 | Q31: =(P31-P$32)/P$32*100 -> 2.3177993
E32: 특급1, 초급1 | F32: 0 | G32: 1 | H32: 0 | I32: 0 | J32: 1 | K32: =A$5*F32 -> 0 | L32: =B$5*G32 -> 290502 | M32: =C$5*H32 -> 0 | N32: =D$5*I32 -> 0 | O32: =E$5*J32 -> 199370 | P32: =SUM(K32:O32) -> 489872 | Q32: =(P32-P$32)/P$32*100 -> 0
E33: 고급1, 고급1 | F33: 0 | G33: 0 | H33: 1.85 | I33: 0 | J33: 0 | K33: =A$5*F33 -> 0 | L33: =B$5*G33 -> 0 | M33: =C$5*H33 -> 484912.75 | N33: =D$5*I33 -> 0 | O33: =E$5*J33 -> 0 | P33: =SUM(K33:O33) -> 484912.75 | Q33: =(P33-P$32)/P$32*100 -> -1.0123563
E34: 고급1, 중급1 | F34: 0 | G34: 0 | H34: 1.1 | I34: 0.85 | J34: 0 | K34: =A$5*F34 -> 0 | L34: =B$5*G34 -> 0 | M34: =C$5*H34 -> 288326.5 | N34: =D$5*I34 -> 188542.75 | O34: =E$5*J34 -> 0 | P34: =SUM(K34:O34) -> 476869.25 | Q34: =(P34-P$32)/P$32*100 -> -2.6543158
E35: 고급1, 초급1 | F35: 0 | G35: 0 | H35: 1.1 | I35: 0 | J35: 0.9 | K35: =A$5*F35 -> 0 | L35: =B$5*G35 -> 0 | M35: =C$5*H35 -> 288326.5 | N35: =D$5*I35 -> 0 | O35: =E$5*J35 -> 179433 | P35: =SUM(K35:O35) -> 467759.5 | Q35: =(P35-P$32)/P$32*100 -> -4.5139343
E36: 중급1, 중급1 | F36: 0 | G36: 0 | H36: 0 | I36: 2.1 | J36: 0 | K36: =A$5*F36 -> 0 | L36: =B$5*G36 -> 0 | M36: =C$5*H36 -> 0 | N36: =D$5*I36 -> 465811.5 | O36: =E$5*J36 -> 0 | P36: =SUM(K36:O36) -> 465811.5 | Q36: =(P36-P$32)/P$32*100 -> -4.9115891
E37: 중급1, 초급1 | F37: 0 | G37: 0 | H37: 0 | I37: 1.2 | J37: 0.95 | K37: =A$5*F37 -> 0 | L37: =B$5*G37 -> 0 | M37: =C$5*H37 -> 0 | N37: =D$5*I37 -> 266178 | O37: =E$5*J37 -> 189401.5 | P37: =SUM(K37:O37) -> 455579.5 | Q37: =(P37-P$32)/P$32*100 -> -7.000298
A38: 공정도면 | B38: P&ID | C38: 도면작성 | D38: 도면수 비례하여 산정 | E38: 기술사1, 기술사1 | F38: 1.55 | G38: 0 | H38: 0 | I38: 0 | J38: 0 | K38: =A$5*F38 -> 588197.1 | L38: =B$5*G38 -> 0 | M38: =C$5*H38 -> 0 | N38: =D$5*I38 -> 0 | O38: =E$5*J38 -> 0 | P38: =SUM(K38:O38) -> 588197.1 | Q38: =(P38-P$46)/P$46*100 -> 15.375974
E39: 기술사1, 특급1 | F39: 0.95 | G39: 0.75 | H39: 0 | I39: 0 | J39: 0 | K39: =A$5*F39 -> 360507.9 | L39: =B$5*G39 -> 217876.5 | M39: =C$5*H39 -> 0 | N39: =D$5*I39 -> 0 | O39: =E$5*J39 -> 0 | P39: =SUM(K39:O39) -> 578384.4 | Q39: =(P39-P$46)/P$46*100 -> 13.451194
E40: 기술사1, 고급1 | F40: 0.95 | G40: 0 | H40: 0.8 | I40: 0 | J40: 0 | K40: =A$5*F40 -> 360507.9 | L40: =B$5*G40 -> 0 | M40: =C$5*H40 -> 209692 | N40: =D$5*I40 -> 0 | O40: =E$5*J40 -> 0 | P40: =SUM(K40:O40) -> 570199.9 | Q40: =(P40-P$46)/P$46*100 -> 11.845789
E41: 기술사1, 중급1 | F41: 0.95 | G41: 0 | H41: 0 | I41: 0.9 | J41: 0 | K41: =A$5*F41 -> 360507.9 | L41: =B$5*G41 -> 0 | M41: =C$5*H41 -> 0 | N41: =D$5*I41 -> 199633.5 | O41: =E$5*J41 -> 0 | P41: =SUM(K41:O41) -> 560141.4 | Q41: =(P41-P$46)/P$46*100 -> 9.8727955
E42: 기술사1, 초급1 | F42: 0.95 | G42: 0 | H42: 0 | I42: 0 | J42: 1 | K42: =A$5*F42 -> 360507.9 | L42: =B$5*G42 -> 0 | M42: =C$5*H42 -> 0 | N42: =D$5*I42 -> 0 | O42: =E$5*J42 -> 199370 | P42: =SUM(K42:O42) -> 559877.9 | Q42: =(P42-P$46)/P$46*100 -> 9.8211095
E43: 특급1, 특급1 | F43: 0 | G43: 1.9 | H43: 0 | I43: 0 | J43: 0 | K43: =A$5*F43 -> 0 | L43: =B$5*G43 -> 551953.8 | M43: =C$5*H43 -> 0 | N43: =D$5*I43 -> 0 | O43: =E$5*J43 -> 0 | P43: =SUM(K43:O43) -> 551953.8 | Q43: =(P43-P$46)/P$46*100 -> 8.2667823
E44: 특급1, 고급1 | F44: 0 | G44: 1 | H44: 0.95 | I44: 0 | J44: 0 | K44: =A$5*F44 -> 0 | L44: =B$5*G44 -> 290502 | M44: =C$5*H44 -> 249009.25 | N44: =D$5*I44 -> 0 | O44: =E$5*J44 -> 0 | P44: =SUM(K44:O44) -> 539511.25 | Q44: =(P44-P$46)/P$46*100 -> 5.8261525
E45: 특급1, 중급1 | F45: 0 | G45: 1 | H45: 0 | I45: 1.05 | J45: 0 | K45: =A$5*F45 -> 0 | L45: =B$5*G45 -> 290502 | M45: =C$5*H45 -> 0 | N45: =D$5*I45 -> 232905.75 | O45: =E$5*J45 -> 0 | P45: =SUM(K45:O45) -> 523407.75 | Q45: =(P45-P$46)/P$46*100 -> 2.6674205
E46: 특급1, 초급1 | F46: 0 | G46: 1 | H46: 0 | I46: 0 | J46: 1.1 | K46: =A$5*F46 -> 0 | L46: =B$5*G46 -> 290502 | M46: =C$5*H46 -> 0 | N46: =D$5*I46 -> 0 | O46: =E$5*J46 -> 219307 | P46: =SUM(K46:O46) -> 509809 | Q46: =(P46-P$46)/P$46*100 -> 0
E47: 고급1, 고급1 | F47: 0 | G47: 0 | H47: 1.9 | I47: 0 | J47: 0 | K47: =A$5*F47 -> 0 | L47: =B$5*G47 -> 0 | M47: =C$5*H47 -> 498018.5 | N47: =D$5*I47 -> 0 | O47: =E$5*J47 -> 0 | P47: =SUM(K47:O47) -> 498018.5 | Q47: =(P47-P$46)/P$46*100 -> -2.3127289
E48: 고급1, 중급1 | F48: 0 | G48: 0 | H48: 1.2 | I48: 0.8 | J48: 0 | K48: =A$5*F48 -> 0 | L48: =B$5*G48 -> 0 | M48: =C$5*H48 -> 314538 | N48: =D$5*I48 -> 177452 | O48: =E$5*J48 -> 0 | P48: =SUM(K48:O48) -> 491990 | Q48: =(P48-P$46)/P$46*100 -> -3.4952306
E49: 고급1, 초급1 | F49: 0 | G49: 0 | H49: 1.2 | I49: 0 | J49: 0.85 | K49: =A$5*F49 -> 0 | L49: =B$5*G49 -> 0 | M49: =C$5*H49 -> 314538 | N49: =D$5*I49 -> 0 | O49: =E$5*J49 -> 169464.5 | P49: =SUM(K49:O49) -> 484002.5 | Q49: =(P49-P$46)/P$46*100 -> -5.0619938
E50: 중급1, 중급1 | F50: 0 | G50: 0 | H50: 0 | I50: 2.15 | J50: 0 | K50: =A$5*F50 -> 0 | L50: =B$5*G50 -> 0 | M50: =C$5*H50 -> 0 | N50: =D$5*I50 -> 476902.25 | O50: =E$5*J50 -> 0 | P50: =SUM(K50:O50) -> 476902.25 | Q50: =(P50-P$46)/P$46*100 -> -6.4547213
E51: 중급1, 초급1 | F51: 0 | G51: 0 | H51: 0 | I51: 1.3 | J51: 0.9 | K51: =A$5*F51 -> 0 | L51: =B$5*G51 -> 0 | M51: =C$5*H51 -> 0 | N51: =D$5*I51 -> 288359.5 | O51: =E$5*J51 -> 179433 | P51: =SUM(K51:O51) -> 467792.5 | Q51: =(P51-P$46)/P$46*100 -> -8.241616
A52: 공정도면 | B52: PFD | C52: 도면작성 | D52: 도면수 비례하여 산정 | E52: 기술사1, 기술사1 | F52: 0.99 | G52: 0 | H52: 0 | I52: 0 | J52: 0 | K52: =A$5*F52 -> 375687.18 | L52: =B$5*G52 -> 0 | M52: =C$5*H52 -> 0 | N52: =D$5*I52 -> 0 | O52: =E$5*J52 -> 0 | P52: =SUM(K52:O52) -> 375687.18 | Q52: =(P52-P$60)/P$60*100 -> 18.303755
E53: 기술사1, 특급1 | F53: 0.7 | G53: 0.36 | H53: 0 | I53: 0 | J53: 0 | K53: =A$5*F53 -> 265637.4 | L53: =B$5*G53 -> 104580.72 | M53: =C$5*H53 -> 0 | N53: =D$5*I53 -> 0 | O53: =E$5*J53 -> 0 | P53: =SUM(K53:O53) -> 370218.12 | Q53: =(P53-P$60)/P$60*100 -> 16.58155
E54: 기술사1, 고급1 | F54: 0.7 | G54: 0 | H54: 0.38 | I54: 0 | J54: 0 | K54: =A$5*F54 -> 265637.4 | L54: =B$5*G54 -> 0 | M54: =C$5*H54 -> 99603.7 | N54: =D$5*I54 -> 0 | O54: =E$5*J54 -> 0 | P54: =SUM(K54:O54) -> 365241.1 | Q54: =(P54-P$60)/P$60*100 -> 15.014289
E55: 기술사1, 중급1 | F55: 0.7 | G55: 0 | H55: 0 | I55: 0.43 | J55: 0 | K55: =A$5*F55 -> 265637.4 | L55: =B$5*G55 -> 0 | M55: =C$5*H55 -> 0 | N55: =D$5*I55 -> 95380.45 | O55: =E$5*J55 -> 0 | P55: =SUM(K55:O55) -> 361017.85 | Q55: =(P55-P$60)/P$60*100 -> 13.684389
E56: 기술사1, 초급1 | F56: 0.7 | G56: 0 | H56: 0 | I56: 0 | J56: 0.45 | K56: =A$5*F56 -> 265637.4 | L56: =B$5*G56 -> 0 | M56: =C$5*H56 -> 0 | N56: =D$5*I56 -> 0 | O56: =E$5*J56 -> 89716.5 | P56: =SUM(K56:O56) -> 355353.9 | Q56: =(P56-P$60)/P$60*100 -> 11.900813
E57: 특급1, 특급1 | F57: 0 | G57: 1.2 | H57: 0 | I57: 0 | J57: 0 | K57: =A$5*F57 -> 0 | L57: =B$5*G57 -> 348602.4 | M57: =C$5*H57 -> 0 | N57: =D$5*I57 -> 0 | O57: =E$5*J57 -> 0 | P57: =SUM(K57:O57) -> 348602.4 | Q57: =(P57-P$60)/P$60*100 -> 9.774768
E58: 특급1, 고급1 | F58: 0 | G58: 0.75 | H58: 0.45 | I58: 0 | J58: 0 | K58: =A$5*F58 -> 0 | L58: =B$5*G58 -> 217876.5 | M58: =C$5*H58 -> 117951.75 | N58: =D$5*I58 -> 0 | O58: =E$5*J58 -> 0 | P58: =SUM(K58:O58) -> 335828.25 | Q58: =(P58-P$60)/P$60*100 -> 5.7521929
E59: 특급1, 중급1 | F59: 0 | G59: 0.75 | H59: 0 | I59: 0.5 | J59: 0 | K59: =A$5*F59 -> 0 | L59: =B$5*G59 -> 217876.5 | M59: =C$5*H59 -> 0 | N59: =D$5*I59 -> 110907.5 | O59: =E$5*J59 -> 0 | P59: =SUM(K59:O59) -> 328784 | Q59: =(P59-P$60)/P$60*100 -> 3.5339611
E60: 특급1, 초급1 | F60: 0 | G60: 0.75 | H60: 0 | I60: 0 | J60: 0.5 | K60: =A$5*F60 -> 0 | L60: =B$5*G60 -> 217876.5 | M60: =C$5*H60 -> 0 | N60: =D$5*I60 -> 0 | O60: =E$5*J60 -> 99685 | P60: =SUM(K60:O60) -> 317561.5 | Q60: =(P60-P$60)/P$60*100 -> 0
E61: 고급1, 고급1 | F61: 0 | G61: 0 | H61: 1.18 | I61: 0 | J61: 0 | K61: =A$5*F61 -> 0 | L61: =B$5*G61 -> 0 | M61: =C$5*H61 -> 309295.7 | N61: =D$5*I61 -> 0 | O61: =E$5*J61 -> 0 | P61: =SUM(K61:O61) -> 309295.7 | Q61: =(P61-P$60)/P$60*100 -> -2.6028974
E62: 고급1, 중급1 | F62: 0 | G62: 0 | H62: 0.8 | I62: 0.43 | J62: 0 | K62: =A$5*F62 -> 0 | L62: =B$5*G62 -> 0 | M62: =C$5*H62 -> 209692 | N62: =D$5*I62 -> 95380.45 | O62: =E$5*J62 -> 0 | P62: =SUM(K62:O62) -> 305072.45 | Q62: =(P62-P$60)/P$60*100 -> -3.9327973
E63: 고급1, 초급1 | F63: 0 | G63: 0 | H63: 0.8 | I63: 0 | J63: 0.45 | K63: =A$5*F63 -> 0 | L63: =B$5*G63 -> 0 | M63: =C$5*H63 -> 209692 | N63: =D$5*I63 -> 0 | O63: =E$5*J63 -> 89716.5 | P63: =SUM(K63:O63) -> 299408.5 | Q63: =(P63-P$60)/P$60*100 -> -5.716373
E64: 중급1, 중급1 | F64: 0 | G64: 0 | H64: 0 | I64: 1.33 | J64: 0 | K64: =A$5*F64 -> 0 | L64: =B$5*G64 -> 0 | M64: =C$5*H64 -> 0 | N64: =D$5*I64 -> 295013.95 | O64: =E$5*J64 -> 0 | P64: =SUM(K64:O64) -> 295013.95 | Q64: =(P64-P$60)/P$60*100 -> -7.1002152
E65: 중급1, 초급1 | F65: 0 | G65: 0 | H65: 0 | I65: 0.85 | J65: 0.5 | K65: =A$5*F65 -> 0 | L65: =B$5*G65 -> 0 | M65: =C$5*H65 -> 0 | N65: =D$5*I65 -> 188542.75 | O65: =E$5*J65 -> 99685 | P65: =SUM(K65:O65) -> 288227.75 | Q65: =(P65-P$60)/P$60*100 -> -9.2371871
A66: 질량수지 | B66: 전체공정 | C66: 목록 작성 | D66: 고정 | E66: 기술사1, 기술사1 | F66: 1.5 | G66: 0 | H66: 0 | I66: 0 | J66: 0 | K66: =A$5*F66 -> 569223 | L66: =B$5*G66 -> 0 | M66: =C$5*H66 -> 0 | N66: =D$5*I66 -> 0 | O66: =E$5*J66 -> 0 | P66: =SUM(K66:O66) -> 569223 | Q66: =(P66-P$74)/P$74*100 -> 16.198313
E67: 기술사1, 특급1 | F67: 0.9 | G67: 0.75 | H67: 0 | I67: 0 | J67: 0 | K67: =A$5*F67 -> 341533.8 | L67: =B$5*G67 -> 217876.5 | M67: =C$5*H67 -> 0 | N67: =D$5*I67 -> 0 | O67: =E$5*J67 -> 0 | P67: =SUM(K67:O67) -> 559410.3 | Q67: =(P67-P$74)/P$74*100 -> 14.195198
E68: 기술사1, 고급1 | F68: 0.9 | G68: 0 | H68: 0.8 | I68: 0 | J68: 0 | K68: =A$5*F68 -> 341533.8 | L68: =B$5*G68 -> 0 | M68: =C$5*H68 -> 209692 | N68: =D$5*I68 -> 0 | O68: =E$5*J68 -> 0 | P68: =SUM(K68:O68) -> 551225.8 | Q68: =(P68-P$74)/P$74*100 -> 12.524455
E69: 기술사1, 중급1 | F69: 0.9 | G69: 0 | H69: 0 | I69: 0.9 | J69: 0 | K69: =A$5*F69 -> 341533.8 | L69: =B$5*G69 -> 0 | M69: =C$5*H69 -> 0 | N69: =D$5*I69 -> 199633.5 | O69: =E$5*J69 -> 0 | P69: =SUM(K69:O69) -> 541167.3 | Q69: =(P69-P$74)/P$74*100 -> 10.471164
E70: 기술사1, 초급1 | F70: 0.9 | G70: 0 | H70: 0 | I70: 0 | J70: 1 | K70: =A$5*F70 -> 341533.8 | L70: =B$5*G70 -> 0 | M70: =C$5*H70 -> 0 | N70: =D$5*I70 -> 0 | O70: =E$5*J70 -> 199370 | P70: =SUM(K70:O70) -> 540903.8 | Q70: =(P70-P$74)/P$74*100 -> 10.417374
E71: 특급1, 특급1 | F71: 0 | G71: 1.8 | H71: 0 | I71: 0 | J71: 0 | K71: =A$5*F71 -> 0 | L71: =B$5*G71 -> 522903.6 | M71: =C$5*H71 -> 0 | N71: =D$5*I71 -> 0 | O71: =E$5*J71 -> 0 | P71: =SUM(K71:O71) -> 522903.6 | Q71: =(P71-P$74)/P$74*100 -> 6.7429043
E72: 특급1, 고급1 | F72: 0 | G72: 1 | H72: 0.85 | I72: 0 | J72: 0 | K72: =A$5*F72 -> 0 | L72: =B$5*G72 -> 290502 | M72: =C$5*H72 -> 222797.75 | N72: =D$5*I72 -> 0 | O72: =E$5*J72 -> 0 | P72: =SUM(K72:O72) -> 513299.75 | Q72: =(P72-P$74)/P$74*100 -> 4.7824228
E73: 특급1, 중급1 | F73: 0 | G73: 1 | H73: 0 | I73: 0.95 | J73: 0 | K73: =A$5*F73 -> 0 | L73: =B$5*G73 -> 290502 | M73: =C$5*H73 -> 0 | N73: =D$5*I73 -> 210724.25 | O73: =E$5*J73 -> 0 | P73: =SUM(K73:O73) -> 501226.25 | Q73: =(P73-P$74)/P$74*100 -> 2.3177993
E74: 특급1, 초급1 | F74: 0 | G74: 1 | H74: 0 | I74: 0 | J74: 1 | K74: =A$5*F74 -> 0 | L74: =B$5*G74 -> 290502 | M74: =C$5*H74 -> 0 | N74: =D$5*I74 -> 0 | O74: =E$5*J74 -> 199370 | P74: =SUM(K74:O74) -> 489872 | Q74: =(P74-P$74)/P$74*100 -> 0
E75: 고급1, 고급1 | F75: 0 | G75: 0 | H75: 1.85 | I75: 0 | J75: 0 | K75: =A$5*F75 -> 0 | L75: =B$5*G75 -> 0 | M75: =C$5*H75 -> 484912.75 | N75: =D$5*I75 -> 0 | O75: =E$5*J75 -> 0 | P75: =SUM(K75:O75) -> 484912.75 | Q75: =(P75-P$74)/P$74*100 -> -1.0123563
E76: 고급1, 중급1 | F76: 0 | G76: 0 | H76: 1.1 | I76: 0.85 | J76: 0 | K76: =A$5*F76 -> 0 | L76: =B$5*G76 -> 0 | M76: =C$5*H76 -> 288326.5 | N76: =D$5*I76 -> 188542.75 | O76: =E$5*J76 -> 0 | P76: =SUM(K76:O76) -> 476869.25 | Q76: =(P76-P$74)/P$74*100 -> -2.6543158
E77: 고급1, 초급1 | F77: 0 | G77: 0 | H77: 1.1 | I77: 0 | J77: 0.9 | K77: =A$5*F77 -> 0 | L77: =B$5*G77 -> 0 | M77: =C$5*H77 -> 288326.5 | N77: =D$5*I77 -> 0 | O77: =E$5*J77 -> 179433 | P77: =SUM(K77:O77) -> 467759.5 | Q77: =(P77-P$74)/P$74*100 -> -4.5139343
E78: 중급1, 중급1 | F78: 0 | G78: 0 | H78: 0 | I78: 2.1 | J78: 0 | K78: =A$5*F78 -> 0 | L78: =B$5*G78 -> 0 | M78: =C$5*H78 -> 0 | N78: =D$5*I78 -> 465811.5 | O78: =E$5*J78 -> 0 | P78: =SUM(K78:O78) -> 465811.5 | Q78: =(P78-P$74)/P$74*100 -> -4.9115891
E79: 중급1, 초급1 | F79: 0 | G79: 0 | H79: 0 | I79: 1.2 | J79: 0.95 | K79: =A$5*F79 -> 0 | L79: =B$5*G79 -> 0 | M79: =C$5*H79 -> 0 | N79: =D$5*I79 -> 266178 | O79: =E$5*J79 -> 189401.5 | P79: =SUM(K79:O79) -> 455579.5 | Q79: =(P79-P$74)/P$74*100 -> -7.000298
A80: 모델링 | B80: 대기 -자료수집 | C80: 배출구 등 조사 | D80: 배출구수 비례하여 산정 | E80: 기술사1, 기술사1 | F80: 1.95 | G80: 0 | H80: 0 | I80: 0 | J80: 0 | K80: =A$5*F80 -> 739989.9 | L80: =B$5*G80 -> 0 | M80: =C$5*H80 -> 0 | N80: =D$5*I80 -> 0 | O80: =E$5*J80 -> 0 | P80: =SUM(K80:O80) -> 739989.9 | Q80: =(P80-P$88)/P$88*100 -> 17.885272
E81: 기술사1, 특급1 | F81: 1.15 | G81: 1 | H81: 0 | I81: 0 | J81: 0 | K81: =A$5*F81 -> 436404.3 | L81: =B$5*G81 -> 290502 | M81: =C$5*H81 -> 0 | N81: =D$5*I81 -> 0 | O81: =E$5*J81 -> 0 | P81: =SUM(K81:O81) -> 726906.3 | Q81: =(P81-P$88)/P$88*100 -> 15.800968
E82: 기술사1, 고급1 | F82: 1.15 | G82: 0 | H82: 1.05 | I82: 0 | J82: 0 | K82: =A$5*F82 -> 436404.3 | L82: =B$5*G82 -> 0 | M82: =C$5*H82 -> 275220.75 | N82: =D$5*I82 -> 0 | O82: =E$5*J82 -> 0 | P82: =SUM(K82:O82) -> 711625.05 | Q82: =(P82-P$88)/P$88*100 -> 13.366564
E83: 기술사1, 중급1 | F83: 1.15 | G83: 0 | H83: 0 | I83: 1.2 | J83: 0 | K83: =A$5*F83 -> 436404.3 | L83: =B$5*G83 -> 0 | M83: =C$5*H83 -> 0 | N83: =D$5*I83 -> 266178 | O83: =E$5*J83 -> 0 | P83: =SUM(K83:O83) -> 702582.3 | Q83: =(P83-P$88)/P$88*100 -> 11.925994
E84: 기술사1, 초급1 | F84: 1.15 | G84: 0 | H84: 0 | I84: 0 | J84: 1.25 | K84: =A$5*F84 -> 436404.3 | L84: =B$5*G84 -> 0 | M84: =C$5*H84 -> 0 | N84: =D$5*I84 -> 0 | O84: =E$5*J84 -> 249212.5 | P84: =SUM(K84:O84) -> 685616.8 | Q84: =(P84-P$88)/P$88*100 -> 9.2232784
E85: 특급1, 특급1 | F85: 0 | G85: 2.35 | H85: 0 | I85: 0 | J85: 0 | K85: =A$5*F85 -> 0 | L85: =B$5*G85 -> 682679.7 | M85: =C$5*H85 -> 0 | N85: =D$5*I85 -> 0 | O85: =E$5*J85 -> 0 | P85: =SUM(K85:O85) -> 682679.7 | Q85: =(P85-P$88)/P$88*100 -> 8.755379
E86: 특급1, 고급1 | F86: 0 | G86: 1.2 | H86: 1.2 | I86: 0 | J86: 0 | K86: =A$5*F86 -> 0 | L86: =B$5*G86 -> 348602.4 | M86: =C$5*H86 -> 314538 | N86: =D$5*I86 -> 0 | O86: =E$5*J86 -> 0 | P86: =SUM(K86:O86) -> 663140.4 | Q86: =(P86-P$88)/P$88*100 -> 5.6426396
E87: 특급1, 중급1 | F87: 0 | G87: 1.2 | H87: 0 | I87: 1.35 | J87: 0 | K87: =A$5*F87 -> 0 | L87: =B$5*G87 -> 348602.4 | M87: =C$5*H87 -> 0 | N87: =D$5*I87 -> 299450.25 | O87: =E$5*J87 -> 0 | P87: =SUM(K87:O87) -> 648052.65 | Q87: =(P87-P$88)/P$88*100 -> 3.2390615
E88: 특급1, 초급1 | F88: 0 | G88: 1.2 | H88: 0 | I88: 0 | J88: 1.4 | K88: =A$5*F88 -> 0 | L88: =B$5*G88 -> 348602.4 | M88: =C$5*H88 -> 0 | N88: =D$5*I88 -> 0 | O88: =E$5*J88 -> 279118 | P88: =SUM(K88:O88) -> 627720.4 | Q88: =(P88-P$88)/P$88*100 -> 0
E89: 고급1, 고급1 | F89: 0 | G89: 0 | H89: 2.35 | I89: 0 | J89: 0 | K89: =A$5*F89 -> 0 | L89: =B$5*G89 -> 0 | M89: =C$5*H89 -> 615970.25 | N89: =D$5*I89 -> 0 | O89: =E$5*J89 -> 0 | P89: =SUM(K89:O89) -> 615970.25 | Q89: =(P89-P$88)/P$88*100 -> -1.8718764
E90: 고급1, 중급1 | F90: 0 | G90: 0 | H90: 1.25 | I90: 1.25 | J90: 0 | K90: =A$5*F90 -> 0 | L90: =B$5*G90 -> 0 | M90: =C$5*H90 -> 327643.75 | N90: =D$5*I90 -> 277268.75 | O90: =E$5*J90 -> 0 | P90: =SUM(K90:O90) -> 604912.5 | Q90: =(P90-P$88)/P$88*100 -> -3.6334489
E91: 고급1, 초급1 | F91: 0 | G91: 0 | H91: 1.25 | I91: 0 | J91: 1.32 | K91: =A$5*F91 -> 0 | L91: =B$5*G91 -> 0 | M91: =C$5*H91 -> 327643.75 | N91: =D$5*I91 -> 0 | O91: =E$5*J91 -> 263168.4 | P91: =SUM(K91:O91) -> 590812.15 | Q91: =(P91-P$88)/P$88*100 -> -5.8797277
E92: 중급1, 중급1 | F92: 0 | G92: 0 | H92: 0 | I92: 2.6 | J92: 0 | K92: =A$5*F92 -> 0 | L92: =B$5*G92 -> 0 | M92: =C$5*H92 -> 0 | N92: =D$5*I92 -> 576719 | O92: =E$5*J92 -> 0 | P92: =SUM(K92:O92) -> 576719 | Q92: =(P92-P$88)/P$88*100 -> -8.1248594
E93: 중급1, 초급1 | F93: 0 | G93: 0 | H93: 0 | I93: 1.35 | J93: 1.33 | K93: =A$5*F93 -> 0 | L93: =B$5*G93 -> 0 | M93: =C$5*H93 -> 0 | N93: =D$5*I93 -> 299450.25 | O93: =E$5*J93 -> 265162.1 | P93: =SUM(K93:O93) -> 564612.35 | Q93: =(P93-P$88)/P$88*100 -> -10.053529
A94: 모델링 | B94: 대기모델링 | C94: 모델링 작업 | D94: 배출구수 비례하여 산정 | E94: 기술사1, 기술사1 | F94: 1.5 | G94: 0 | H94: 0 | I94: 0 | J94: 0 | K94: =A$5*F94 -> 569223 | L94: =B$5*G94 -> 0 | M94: =C$5*H94 -> 0 | N94: =D$5*I94 -> 0 | O94: =E$5*J94 -> 0 | P94: =SUM(K94:O94) -> 569223 | Q94: =(P94-P$102)/P$102*100 -> 16.198313
E95: 기술사1, 특급1 | F95: 0.9 | G95: 0.75 | H95: 0 | I95: 0 | J95: 0 | K95: =A$5*F95 -> 341533.8 | L95: =B$5*G95 -> 217876.5 | M95: =C$5*H95 -> 0 | N95: =D$5*I95 -> 0 | O95: =E$5*J95 -> 0 | P95: =SUM(K95:O95) -> 559410.3 | Q95: =(P95-P$102)/P$102*100 -> 14.195198
E96: 기술사1, 고급1 | F96: 0.9 | G96: 0 | H96: 0.8 | I96: 0 | J96: 0 | K96: =A$5*F96 -> 341533.8 | L96: =B$5*G96 -> 0 | M96: =C$5*H96 -> 209692 | N96: =D$5*I96 -> 0 | O96: =E$5*J96 -> 0 | P96: =SUM(K96:O96) -> 551225.8 | Q96: =(P96-P$102)/P$102*100 -> 12.524455
E97: 기술사1, 중급1 | F97: 0.9 | G97: 0 | H97: 0 | I97: 0.9 | J97: 0 | K97: =A$5*F97 -> 341533.8 | L97: =B$5*G97 -> 0 | M97: =C$5*H97 -> 0 | N97: =D$5*I97 -> 199633.5 | O97: =E$5*J97 -> 0 | P97: =SUM(K97:O97) -> 541167.3 | Q97: =(P97-P$102)/P$102*100 -> 10.471164
E98: 기술사1, 초급1 | F98: 0.9 | G98: 0 | H98: 0 | I98: 0 | J98: 1 | K98: =A$5*F98 -> 341533.8 | L98: =B$5*G98 -> 0 | M98: =C$5*H98 -> 0 | N98: =D$5*I98 -> 0 | O98: =E$5*J98 -> 199370 | P98: =SUM(K98:O98) -> 540903.8 | Q98: =(P98-P$102)/P$102*100 -> 10.417374
E99: 특급1, 특급1 | F99: 0 | G99: 1.8 | H99: 0 | I99: 0 | J99: 0 | K99: =A$5*F99 -> 0 | L99: =B$5*G99 -> 522903.6 | M99: =C$5*H99 -> 0 | N99: =D$5*I99 -> 0 | O99: =E$5*J99 -> 0 | P99: =SUM(K99:O99) -> 522903.6 | Q99: =(P99-P$102)/P$102*100 -> 6.7429043
E100: 특급1, 고급1 | F100: 0 | G100: 1 | H100: 0.85 | I100: 0 | J100: 0 | K100: =A$5*F100 -> 0 | L100: =B$5*G100 -> 290502 | M100: =C$5*H100 -> 222797.75 | N100: =D$5*I100 -> 0 | O100: =E$5*J100 -> 0 | P100: =SUM(K100:O100) -> 513299.75 | Q100: =(P100-P$102)/P$102*100 -> 4.7824228
E101: 특급1, 중급1 | F101: 0 | G101: 1 | H101: 0 | I101: 0.95 | J101: 0 | K101: =A$5*F101 -> 0 | L101: =B$5*G101 -> 290502 | M101: =C$5*H101 -> 0 | N101: =D$5*I101 -> 210724.25 | O101: =E$5*J101 -> 0 | P101: =SUM(K101:O101) -> 501226.25 | Q101: =(P101-P$102)/P$102*100 -> 2.3177993
E102: 특급1, 초급1 | F102: 0 | G102: 1 | H102: 0 | I102: 0 | J102: 1 | K102: =A$5*F102 -> 0 | L102: =B$5*G102 -> 290502 | M102: =C$5*H102 -> 0 | N102: =D$5*I102 -> 0 | O102: =E$5*J102 -> 199370 | P102: =SUM(K102:O102) -> 489872 | Q102: =(P102-P$102)/P$102*100 -> 0
...
